BEGIN:VCALENDAR
VERSION:2.0
PRODID:-//Town of Glenrock - ECPv6.15.20//NONSGML v1.0//EN
CALSCALE:GREGORIAN
METHOD:PUBLISH
X-ORIGINAL-URL:https://glenrock.org
X-WR-CALDESC:Events for Town of Glenrock
REFRESH-INTERVAL;VALUE=DURATION:PT1H
X-Robots-Tag:noindex
X-PUBLISHED-TTL:PT1H
BEGIN:VTIMEZONE
TZID:America/Denver
BEGIN:DAYLIGHT
TZOFFSETFROM:-0700
TZOFFSETTO:-0600
TZNAME:MDT
DTSTART:20230312T090000
END:DAYLIGHT
BEGIN:STANDARD
TZOFFSETFROM:-0600
TZOFFSETTO:-0700
TZNAME:MST
DTSTART:20231105T080000
END:STANDARD
BEGIN:DAYLIGHT
TZOFFSETFROM:-0700
TZOFFSETTO:-0600
TZNAME:MDT
DTSTART:20240310T090000
END:DAYLIGHT
BEGIN:STANDARD
TZOFFSETFROM:-0600
TZOFFSETTO:-0700
TZNAME:MST
DTSTART:20241103T080000
END:STANDARD
BEGIN:DAYLIGHT
TZOFFSETFROM:-0700
TZOFFSETTO:-0600
TZNAME:MDT
DTSTART:20250309T090000
END:DAYLIGHT
BEGIN:STANDARD
TZOFFSETFROM:-0600
TZOFFSETTO:-0700
TZNAME:MST
DTSTART:20251102T080000
END:STANDARD
BEGIN:DAYLIGHT
TZOFFSETFROM:-0700
TZOFFSETTO:-0600
TZNAME:MDT
DTSTART:20260308T090000
END:DAYLIGHT
BEGIN:STANDARD
TZOFFSETFROM:-0600
TZOFFSETTO:-0700
TZNAME:MST
DTSTART:20261101T080000
END:STANDARD
BEGIN:DAYLIGHT
TZOFFSETFROM:-0700
TZOFFSETTO:-0600
TZNAME:MDT
DTSTART:20270314T090000
END:DAYLIGHT
BEGIN:STANDARD
TZOFFSETFROM:-0600
TZOFFSETTO:-0700
TZNAME:MST
DTSTART:20271107T080000
END:STANDARD
END:VTIMEZONE
BEGIN:VEVENT
DTSTART;TZID=America/Denver:20260126T173000
DTEND;TZID=America/Denver:20260126T183000
DTSTAMP:20260423T153708
CREATED:20250107T192754Z
LAST-MODIFIED:20250107T193000Z
UID:10000233-1769448600-1769452200@glenrock.org
SUMMARY:Town Council Meeting
DESCRIPTION:Town Council Meetings are also livestreamed on YouTube. Click here for the Town’s YouTube channel.
URL:https://glenrock.org/event/town-council-meeting-3/2026-01-26/
LOCATION:Town Hall – Council Chambers\, 219 S 3RD ST\, Glenrock\, WY\, 82637\, United States
CATEGORIES:Town Council
ATTACH;FMTTYPE=image/png:https://glenrock.org/wp-content/uploads/2023/08/TOG-Logo-Official-OneColor-White-16-9-e1693520063394.png
ORGANIZER;CN="Town of Glenrock":MAILTO:events@glenrock.org
END:VEVENT
BEGIN:VEVENT
DTSTART;TZID=America/Denver:20260112T173000
DTEND;TZID=America/Denver:20260112T183000
DTSTAMP:20260423T153708
CREATED:20250107T192553Z
LAST-MODIFIED:20250107T192908Z
UID:10000220-1768239000-1768242600@glenrock.org
SUMMARY:Town Council Meeting
DESCRIPTION:Town Council Meetings are also livestreamed on YouTube. Click here for the Town’s YouTube channel.
URL:https://glenrock.org/event/town-council-meeting-2-2/2026-01-12/
LOCATION:Town Hall – Council Chambers\, 219 S 3RD ST\, Glenrock\, WY\, 82637\, United States
CATEGORIES:Town Council
ATTACH;FMTTYPE=image/png:https://glenrock.org/wp-content/uploads/2023/08/TOG-Logo-Official-OneColor-White-16-9-e1693520063394.png
ORGANIZER;CN="Town of Glenrock":MAILTO:events@glenrock.org
END:VEVENT
BEGIN:VEVENT
DTSTART;TZID=America/Denver:20251222T173000
DTEND;TZID=America/Denver:20251222T183000
DTSTAMP:20260423T153708
CREATED:20250107T192754Z
LAST-MODIFIED:20250107T193000Z
UID:10000232-1766424600-1766428200@glenrock.org
SUMMARY:Town Council Meeting
DESCRIPTION:Town Council Meetings are also livestreamed on YouTube. Click here for the Town’s YouTube channel.
URL:https://glenrock.org/event/town-council-meeting-3/2025-12-22/
LOCATION:Town Hall – Council Chambers\, 219 S 3RD ST\, Glenrock\, WY\, 82637\, United States
CATEGORIES:Town Council
ATTACH;FMTTYPE=image/png:https://glenrock.org/wp-content/uploads/2023/08/TOG-Logo-Official-OneColor-White-16-9-e1693520063394.png
ORGANIZER;CN="Town of Glenrock":MAILTO:events@glenrock.org
END:VEVENT
BEGIN:VEVENT
DTSTART;TZID=America/Denver:20251208T173000
DTEND;TZID=America/Denver:20251208T183000
DTSTAMP:20260423T153708
CREATED:20250107T192553Z
LAST-MODIFIED:20250107T192908Z
UID:10000219-1765215000-1765218600@glenrock.org
SUMMARY:Town Council Meeting
DESCRIPTION:Town Council Meetings are also livestreamed on YouTube. Click here for the Town’s YouTube channel.
URL:https://glenrock.org/event/town-council-meeting-2-2/2025-12-08/
LOCATION:Town Hall – Council Chambers\, 219 S 3RD ST\, Glenrock\, WY\, 82637\, United States
CATEGORIES:Town Council
ATTACH;FMTTYPE=image/png:https://glenrock.org/wp-content/uploads/2023/08/TOG-Logo-Official-OneColor-White-16-9-e1693520063394.png
ORGANIZER;CN="Town of Glenrock":MAILTO:events@glenrock.org
END:VEVENT
BEGIN:VEVENT
DTSTART;TZID=America/Denver:20251124T173000
DTEND;TZID=America/Denver:20251124T183000
DTSTAMP:20260423T153708
CREATED:20250107T192754Z
LAST-MODIFIED:20250107T193000Z
UID:10000231-1764005400-1764009000@glenrock.org
SUMMARY:Town Council Meeting
DESCRIPTION:Town Council Meetings are also livestreamed on YouTube. Click here for the Town’s YouTube channel.
URL:https://glenrock.org/event/town-council-meeting-3/2025-11-24/
LOCATION:Town Hall – Council Chambers\, 219 S 3RD ST\, Glenrock\, WY\, 82637\, United States
CATEGORIES:Town Council
ATTACH;FMTTYPE=image/png:https://glenrock.org/wp-content/uploads/2023/08/TOG-Logo-Official-OneColor-White-16-9-e1693520063394.png
ORGANIZER;CN="Town of Glenrock":MAILTO:events@glenrock.org
END:VEVENT
BEGIN:VEVENT
DTSTART;TZID=America/Denver:20251110T173000
DTEND;TZID=America/Denver:20251110T183000
DTSTAMP:20260423T153708
CREATED:20250107T192553Z
LAST-MODIFIED:20250107T192908Z
UID:10000218-1762795800-1762799400@glenrock.org
SUMMARY:Town Council Meeting
DESCRIPTION:Town Council Meetings are also livestreamed on YouTube. Click here for the Town’s YouTube channel.
URL:https://glenrock.org/event/town-council-meeting-2-2/2025-11-10/
LOCATION:Town Hall – Council Chambers\, 219 S 3RD ST\, Glenrock\, WY\, 82637\, United States
CATEGORIES:Town Council
ATTACH;FMTTYPE=image/png:https://glenrock.org/wp-content/uploads/2023/08/TOG-Logo-Official-OneColor-White-16-9-e1693520063394.png
ORGANIZER;CN="Town of Glenrock":MAILTO:events@glenrock.org
END:VEVENT
BEGIN:VEVENT
DTSTART;TZID=America/Denver:20251027T173000
DTEND;TZID=America/Denver:20251027T183000
DTSTAMP:20260423T153708
CREATED:20250107T192754Z
LAST-MODIFIED:20250107T193000Z
UID:10000230-1761586200-1761589800@glenrock.org
SUMMARY:Town Council Meeting
DESCRIPTION:Town Council Meetings are also livestreamed on YouTube. Click here for the Town’s YouTube channel.
URL:https://glenrock.org/event/town-council-meeting-3/2025-10-27/
LOCATION:Town Hall – Council Chambers\, 219 S 3RD ST\, Glenrock\, WY\, 82637\, United States
CATEGORIES:Town Council
ATTACH;FMTTYPE=image/png:https://glenrock.org/wp-content/uploads/2023/08/TOG-Logo-Official-OneColor-White-16-9-e1693520063394.png
ORGANIZER;CN="Town of Glenrock":MAILTO:events@glenrock.org
END:VEVENT
BEGIN:VEVENT
DTSTART;TZID=America/Denver:20251013T173000
DTEND;TZID=America/Denver:20251013T183000
DTSTAMP:20260423T153708
CREATED:20250107T192553Z
LAST-MODIFIED:20250107T192908Z
UID:10000217-1760376600-1760380200@glenrock.org
SUMMARY:Town Council Meeting
DESCRIPTION:Town Council Meetings are also livestreamed on YouTube. Click here for the Town’s YouTube channel.
URL:https://glenrock.org/event/town-council-meeting-2-2/2025-10-13/
LOCATION:Town Hall – Council Chambers\, 219 S 3RD ST\, Glenrock\, WY\, 82637\, United States
CATEGORIES:Town Council
ATTACH;FMTTYPE=image/png:https://glenrock.org/wp-content/uploads/2023/08/TOG-Logo-Official-OneColor-White-16-9-e1693520063394.png
ORGANIZER;CN="Town of Glenrock":MAILTO:events@glenrock.org
END:VEVENT
BEGIN:VEVENT
DTSTART;TZID=America/Denver:20250922T173000
DTEND;TZID=America/Denver:20250922T183000
DTSTAMP:20260423T153708
CREATED:20250107T192754Z
LAST-MODIFIED:20250107T193000Z
UID:10000229-1758562200-1758565800@glenrock.org
SUMMARY:Town Council Meeting
DESCRIPTION:Town Council Meetings are also livestreamed on YouTube. Click here for the Town’s YouTube channel.
URL:https://glenrock.org/event/town-council-meeting-3/2025-09-22/
LOCATION:Town Hall – Council Chambers\, 219 S 3RD ST\, Glenrock\, WY\, 82637\, United States
CATEGORIES:Town Council
ATTACH;FMTTYPE=image/png:https://glenrock.org/wp-content/uploads/2023/08/TOG-Logo-Official-OneColor-White-16-9-e1693520063394.png
ORGANIZER;CN="Town of Glenrock":MAILTO:events@glenrock.org
END:VEVENT
BEGIN:VEVENT
DTSTART;TZID=America/Denver:20250908T173000
DTEND;TZID=America/Denver:20250908T183000
DTSTAMP:20260423T153708
CREATED:20250107T192553Z
LAST-MODIFIED:20250107T192908Z
UID:10000216-1757352600-1757356200@glenrock.org
SUMMARY:Town Council Meeting
DESCRIPTION:Town Council Meetings are also livestreamed on YouTube. Click here for the Town’s YouTube channel.
URL:https://glenrock.org/event/town-council-meeting-2-2/2025-09-08/
LOCATION:Town Hall – Council Chambers\, 219 S 3RD ST\, Glenrock\, WY\, 82637\, United States
CATEGORIES:Town Council
ATTACH;FMTTYPE=image/png:https://glenrock.org/wp-content/uploads/2023/08/TOG-Logo-Official-OneColor-White-16-9-e1693520063394.png
ORGANIZER;CN="Town of Glenrock":MAILTO:events@glenrock.org
END:VEVENT
BEGIN:VEVENT
DTSTART;TZID=America/Denver:20250825T173000
DTEND;TZID=America/Denver:20250825T183000
DTSTAMP:20260423T153708
CREATED:20250107T192754Z
LAST-MODIFIED:20250107T193000Z
UID:10000228-1756143000-1756146600@glenrock.org
SUMMARY:Town Council Meeting
DESCRIPTION:Town Council Meetings are also livestreamed on YouTube. Click here for the Town’s YouTube channel.
URL:https://glenrock.org/event/town-council-meeting-3/2025-08-25/
LOCATION:Town Hall – Council Chambers\, 219 S 3RD ST\, Glenrock\, WY\, 82637\, United States
CATEGORIES:Town Council
ATTACH;FMTTYPE=image/png:https://glenrock.org/wp-content/uploads/2023/08/TOG-Logo-Official-OneColor-White-16-9-e1693520063394.png
ORGANIZER;CN="Town of Glenrock":MAILTO:events@glenrock.org
END:VEVENT
BEGIN:VEVENT
DTSTART;TZID=America/Denver:20250811T173000
DTEND;TZID=America/Denver:20250811T183000
DTSTAMP:20260423T153708
CREATED:20250107T192553Z
LAST-MODIFIED:20250107T192908Z
UID:10000215-1754933400-1754937000@glenrock.org
SUMMARY:Town Council Meeting
DESCRIPTION:Town Council Meetings are also livestreamed on YouTube. Click here for the Town’s YouTube channel.
URL:https://glenrock.org/event/town-council-meeting-2-2/2025-08-11/
LOCATION:Town Hall – Council Chambers\, 219 S 3RD ST\, Glenrock\, WY\, 82637\, United States
CATEGORIES:Town Council
ATTACH;FMTTYPE=image/png:https://glenrock.org/wp-content/uploads/2023/08/TOG-Logo-Official-OneColor-White-16-9-e1693520063394.png
ORGANIZER;CN="Town of Glenrock":MAILTO:events@glenrock.org
END:VEVENT
BEGIN:VEVENT
DTSTART;TZID=America/Denver:20250728T173000
DTEND;TZID=America/Denver:20250728T183000
DTSTAMP:20260423T153708
CREATED:20250107T192754Z
LAST-MODIFIED:20250107T193000Z
UID:10000227-1753723800-1753727400@glenrock.org
SUMMARY:Town Council Meeting
DESCRIPTION:Town Council Meetings are also livestreamed on YouTube. Click here for the Town’s YouTube channel.
URL:https://glenrock.org/event/town-council-meeting-3/2025-07-28/
LOCATION:Town Hall – Council Chambers\, 219 S 3RD ST\, Glenrock\, WY\, 82637\, United States
CATEGORIES:Town Council
ATTACH;FMTTYPE=image/png:https://glenrock.org/wp-content/uploads/2023/08/TOG-Logo-Official-OneColor-White-16-9-e1693520063394.png
ORGANIZER;CN="Town of Glenrock":MAILTO:events@glenrock.org
END:VEVENT
BEGIN:VEVENT
DTSTART;TZID=America/Denver:20250714T173000
DTEND;TZID=America/Denver:20250714T183000
DTSTAMP:20260423T153708
CREATED:20250107T192553Z
LAST-MODIFIED:20250107T192908Z
UID:10000214-1752514200-1752517800@glenrock.org
SUMMARY:Town Council Meeting
DESCRIPTION:Town Council Meetings are also livestreamed on YouTube. Click here for the Town’s YouTube channel.
URL:https://glenrock.org/event/town-council-meeting-2-2/2025-07-14/
LOCATION:Town Hall – Council Chambers\, 219 S 3RD ST\, Glenrock\, WY\, 82637\, United States
CATEGORIES:Town Council
ATTACH;FMTTYPE=image/png:https://glenrock.org/wp-content/uploads/2023/08/TOG-Logo-Official-OneColor-White-16-9-e1693520063394.png
ORGANIZER;CN="Town of Glenrock":MAILTO:events@glenrock.org
END:VEVENT
BEGIN:VEVENT
DTSTART;TZID=America/Denver:20250623T173000
DTEND;TZID=America/Denver:20250623T183000
DTSTAMP:20260423T153708
CREATED:20250107T192754Z
LAST-MODIFIED:20250107T193000Z
UID:10000226-1750699800-1750703400@glenrock.org
SUMMARY:Town Council Meeting
DESCRIPTION:Town Council Meetings are also livestreamed on YouTube. Click here for the Town’s YouTube channel.
URL:https://glenrock.org/event/town-council-meeting-3/2025-06-23/
LOCATION:Town Hall – Council Chambers\, 219 S 3RD ST\, Glenrock\, WY\, 82637\, United States
CATEGORIES:Town Council
ATTACH;FMTTYPE=image/png:https://glenrock.org/wp-content/uploads/2023/08/TOG-Logo-Official-OneColor-White-16-9-e1693520063394.png
ORGANIZER;CN="Town of Glenrock":MAILTO:events@glenrock.org
END:VEVENT
BEGIN:VEVENT
DTSTART;TZID=America/Denver:20250609T173000
DTEND;TZID=America/Denver:20250609T183000
DTSTAMP:20260423T153708
CREATED:20250107T192553Z
LAST-MODIFIED:20250107T192908Z
UID:10000213-1749490200-1749493800@glenrock.org
SUMMARY:Town Council Meeting
DESCRIPTION:Town Council Meetings are also livestreamed on YouTube. Click here for the Town’s YouTube channel.
URL:https://glenrock.org/event/town-council-meeting-2-2/2025-06-09/
LOCATION:Town Hall – Council Chambers\, 219 S 3RD ST\, Glenrock\, WY\, 82637\, United States
CATEGORIES:Town Council
ATTACH;FMTTYPE=image/png:https://glenrock.org/wp-content/uploads/2023/08/TOG-Logo-Official-OneColor-White-16-9-e1693520063394.png
ORGANIZER;CN="Town of Glenrock":MAILTO:events@glenrock.org
END:VEVENT
BEGIN:VEVENT
DTSTART;TZID=America/Denver:20250526T173000
DTEND;TZID=America/Denver:20250526T183000
DTSTAMP:20260423T153708
CREATED:20250107T192754Z
LAST-MODIFIED:20250107T193000Z
UID:10000225-1748280600-1748284200@glenrock.org
SUMMARY:Town Council Meeting
DESCRIPTION:Town Council Meetings are also livestreamed on YouTube. Click here for the Town’s YouTube channel.
URL:https://glenrock.org/event/town-council-meeting-3/2025-05-26/
LOCATION:Town Hall – Council Chambers\, 219 S 3RD ST\, Glenrock\, WY\, 82637\, United States
CATEGORIES:Town Council
ATTACH;FMTTYPE=image/png:https://glenrock.org/wp-content/uploads/2023/08/TOG-Logo-Official-OneColor-White-16-9-e1693520063394.png
ORGANIZER;CN="Town of Glenrock":MAILTO:events@glenrock.org
END:VEVENT
BEGIN:VEVENT
DTSTART;TZID=America/Denver:20250512T173000
DTEND;TZID=America/Denver:20250512T183000
DTSTAMP:20260423T153708
CREATED:20250107T192553Z
LAST-MODIFIED:20250107T192908Z
UID:10000212-1747071000-1747074600@glenrock.org
SUMMARY:Town Council Meeting
DESCRIPTION:Town Council Meetings are also livestreamed on YouTube. Click here for the Town’s YouTube channel.
URL:https://glenrock.org/event/town-council-meeting-2-2/2025-05-12/
LOCATION:Town Hall – Council Chambers\, 219 S 3RD ST\, Glenrock\, WY\, 82637\, United States
CATEGORIES:Town Council
ATTACH;FMTTYPE=image/png:https://glenrock.org/wp-content/uploads/2023/08/TOG-Logo-Official-OneColor-White-16-9-e1693520063394.png
ORGANIZER;CN="Town of Glenrock":MAILTO:events@glenrock.org
END:VEVENT
BEGIN:VEVENT
DTSTART;TZID=America/Denver:20250428T173000
DTEND;TZID=America/Denver:20250428T183000
DTSTAMP:20260423T153708
CREATED:20250107T192754Z
LAST-MODIFIED:20250107T193000Z
UID:10000224-1745861400-1745865000@glenrock.org
SUMMARY:Town Council Meeting
DESCRIPTION:Town Council Meetings are also livestreamed on YouTube. Click here for the Town’s YouTube channel.
URL:https://glenrock.org/event/town-council-meeting-3/2025-04-28/
LOCATION:Town Hall – Council Chambers\, 219 S 3RD ST\, Glenrock\, WY\, 82637\, United States
CATEGORIES:Town Council
ATTACH;FMTTYPE=image/png:https://glenrock.org/wp-content/uploads/2023/08/TOG-Logo-Official-OneColor-White-16-9-e1693520063394.png
ORGANIZER;CN="Town of Glenrock":MAILTO:events@glenrock.org
END:VEVENT
BEGIN:VEVENT
DTSTART;TZID=America/Denver:20250414T173000
DTEND;TZID=America/Denver:20250414T183000
DTSTAMP:20260423T153708
CREATED:20250107T192553Z
LAST-MODIFIED:20250107T192908Z
UID:10000211-1744651800-1744655400@glenrock.org
SUMMARY:Town Council Meeting
DESCRIPTION:Town Council Meetings are also livestreamed on YouTube. Click here for the Town’s YouTube channel.
URL:https://glenrock.org/event/town-council-meeting-2-2/2025-04-14/
LOCATION:Town Hall – Council Chambers\, 219 S 3RD ST\, Glenrock\, WY\, 82637\, United States
CATEGORIES:Town Council
ATTACH;FMTTYPE=image/png:https://glenrock.org/wp-content/uploads/2023/08/TOG-Logo-Official-OneColor-White-16-9-e1693520063394.png
ORGANIZER;CN="Town of Glenrock":MAILTO:events@glenrock.org
END:VEVENT
BEGIN:VEVENT
DTSTART;TZID=America/Denver:20250324T173000
DTEND;TZID=America/Denver:20250324T183000
DTSTAMP:20260423T153708
CREATED:20250107T192754Z
LAST-MODIFIED:20250107T193000Z
UID:10000223-1742837400-1742841000@glenrock.org
SUMMARY:Town Council Meeting
DESCRIPTION:Town Council Meetings are also livestreamed on YouTube. Click here for the Town’s YouTube channel.
URL:https://glenrock.org/event/town-council-meeting-3/2025-03-24/
LOCATION:Town Hall – Council Chambers\, 219 S 3RD ST\, Glenrock\, WY\, 82637\, United States
CATEGORIES:Town Council
ATTACH;FMTTYPE=image/png:https://glenrock.org/wp-content/uploads/2023/08/TOG-Logo-Official-OneColor-White-16-9-e1693520063394.png
ORGANIZER;CN="Town of Glenrock":MAILTO:events@glenrock.org
END:VEVENT
BEGIN:VEVENT
DTSTART;TZID=America/Denver:20250310T173000
DTEND;TZID=America/Denver:20250310T183000
DTSTAMP:20260423T153708
CREATED:20250107T192553Z
LAST-MODIFIED:20250107T192908Z
UID:10000210-1741627800-1741631400@glenrock.org
SUMMARY:Town Council Meeting
DESCRIPTION:Town Council Meetings are also livestreamed on YouTube. Click here for the Town’s YouTube channel.
URL:https://glenrock.org/event/town-council-meeting-2-2/2025-03-10/
LOCATION:Town Hall – Council Chambers\, 219 S 3RD ST\, Glenrock\, WY\, 82637\, United States
CATEGORIES:Town Council
ATTACH;FMTTYPE=image/png:https://glenrock.org/wp-content/uploads/2023/08/TOG-Logo-Official-OneColor-White-16-9-e1693520063394.png
ORGANIZER;CN="Town of Glenrock":MAILTO:events@glenrock.org
END:VEVENT
BEGIN:VEVENT
DTSTART;TZID=America/Denver:20250224T173000
DTEND;TZID=America/Denver:20250224T183000
DTSTAMP:20260423T153708
CREATED:20250107T192754Z
LAST-MODIFIED:20250107T193000Z
UID:10000222-1740418200-1740421800@glenrock.org
SUMMARY:Town Council Meeting
DESCRIPTION:Town Council Meetings are also livestreamed on YouTube. Click here for the Town’s YouTube channel.
URL:https://glenrock.org/event/town-council-meeting-3/2025-02-24/
LOCATION:Town Hall – Council Chambers\, 219 S 3RD ST\, Glenrock\, WY\, 82637\, United States
CATEGORIES:Town Council
ATTACH;FMTTYPE=image/png:https://glenrock.org/wp-content/uploads/2023/08/TOG-Logo-Official-OneColor-White-16-9-e1693520063394.png
ORGANIZER;CN="Town of Glenrock":MAILTO:events@glenrock.org
END:VEVENT
BEGIN:VEVENT
DTSTART;TZID=America/Denver:20250210T173000
DTEND;TZID=America/Denver:20250210T183000
DTSTAMP:20260423T153708
CREATED:20250107T192553Z
LAST-MODIFIED:20250107T192908Z
UID:10000209-1739208600-1739212200@glenrock.org
SUMMARY:Town Council Meeting
DESCRIPTION:Town Council Meetings are also livestreamed on YouTube. Click here for the Town’s YouTube channel.
URL:https://glenrock.org/event/town-council-meeting-2-2/2025-02-10/
LOCATION:Town Hall – Council Chambers\, 219 S 3RD ST\, Glenrock\, WY\, 82637\, United States
CATEGORIES:Town Council
ATTACH;FMTTYPE=image/png:https://glenrock.org/wp-content/uploads/2023/08/TOG-Logo-Official-OneColor-White-16-9-e1693520063394.png
ORGANIZER;CN="Town of Glenrock":MAILTO:events@glenrock.org
END:VEVENT
BEGIN:VEVENT
DTSTART;TZID=America/Denver:20250127T173000
DTEND;TZID=America/Denver:20250127T183000
DTSTAMP:20260423T153708
CREATED:20250107T192754Z
LAST-MODIFIED:20250107T193000Z
UID:10000221-1737999000-1738002600@glenrock.org
SUMMARY:Town Council Meeting
DESCRIPTION:Town Council Meetings are also livestreamed on YouTube. Click here for the Town’s YouTube channel.
URL:https://glenrock.org/event/town-council-meeting-3/2025-01-27/
LOCATION:Town Hall – Council Chambers\, 219 S 3RD ST\, Glenrock\, WY\, 82637\, United States
CATEGORIES:Town Council
ATTACH;FMTTYPE=image/png:https://glenrock.org/wp-content/uploads/2023/08/TOG-Logo-Official-OneColor-White-16-9-e1693520063394.png
ORGANIZER;CN="Town of Glenrock":MAILTO:events@glenrock.org
END:VEVENT
BEGIN:VEVENT
DTSTART;TZID=America/Denver:20250113T173000
DTEND;TZID=America/Denver:20250113T183000
DTSTAMP:20260423T153708
CREATED:20250107T192553Z
LAST-MODIFIED:20250107T192908Z
UID:10000027-1736789400-1736793000@glenrock.org
SUMMARY:Town Council Meeting
DESCRIPTION:Town Council Meetings are also livestreamed on YouTube. Click here for the Town’s YouTube channel.
URL:https://glenrock.org/event/town-council-meeting-2-2/2025-01-13/
LOCATION:Town Hall – Council Chambers\, 219 S 3RD ST\, Glenrock\, WY\, 82637\, United States
CATEGORIES:Town Council
ATTACH;FMTTYPE=image/png:https://glenrock.org/wp-content/uploads/2023/08/TOG-Logo-Official-OneColor-White-16-9-e1693520063394.png
ORGANIZER;CN="Town of Glenrock":MAILTO:events@glenrock.org
END:VEVENT
BEGIN:VEVENT
DTSTART;TZID=America/Denver:20240826T173000
DTEND;TZID=America/Denver:20240826T173000
DTSTAMP:20260423T153708
CREATED:20230831T220003Z
LAST-MODIFIED:20231109T180328Z
UID:10000026-1724693400-1724693400@glenrock.org
SUMMARY:Town Council Meeting
DESCRIPTION:Town Council Meetings are also livestreamed on YouTube. Click here for the Town’s YouTube channel.
URL:https://glenrock.org/event/town-council-meeting-2/2024-08-26/
LOCATION:Town Hall – Council Chambers\, 219 S 3RD ST\, Glenrock\, WY\, 82637\, United States
CATEGORIES:Town Council
ATTACH;FMTTYPE=image/png:https://glenrock.org/wp-content/uploads/2023/08/TOG-Logo-Official-OneColor-White-16-9-e1693520063394.png
ORGANIZER;CN="Town of Glenrock":MAILTO:events@glenrock.org
END:VEVENT
BEGIN:VEVENT
DTSTART;TZID=America/Denver:20240812T173000
DTEND;TZID=America/Denver:20240812T173000
DTSTAMP:20260423T153708
CREATED:20230831T215501Z
LAST-MODIFIED:20240314T140010Z
UID:10000013-1723483800-1723483800@glenrock.org
SUMMARY:Town Council Meeting
DESCRIPTION:Town Council Meetings are also livestreamed on YouTube. Click here for the Town’s YouTube channel.
URL:https://glenrock.org/event/town-council-meeting/2024-08-12/
LOCATION:Town Hall – Council Chambers\, 219 S 3RD ST\, Glenrock\, WY\, 82637\, United States
CATEGORIES:Town Council
ATTACH;FMTTYPE=image/png:https://glenrock.org/wp-content/uploads/2023/08/TOG-Logo-Official-OneColor-White-16-9-e1693520063394.png
ORGANIZER;CN="Town of Glenrock":MAILTO:events@glenrock.org
END:VEVENT
BEGIN:VEVENT
DTSTART;TZID=America/Denver:20240722T173000
DTEND;TZID=America/Denver:20240722T173000
DTSTAMP:20260423T153708
CREATED:20230831T220003Z
LAST-MODIFIED:20231109T180328Z
UID:10000025-1721669400-1721669400@glenrock.org
SUMMARY:Town Council Meeting
DESCRIPTION:Town Council Meetings are also livestreamed on YouTube. Click here for the Town’s YouTube channel.
URL:https://glenrock.org/event/town-council-meeting-2/2024-07-22/
LOCATION:Town Hall – Council Chambers\, 219 S 3RD ST\, Glenrock\, WY\, 82637\, United States
CATEGORIES:Town Council
ATTACH;FMTTYPE=image/png:https://glenrock.org/wp-content/uploads/2023/08/TOG-Logo-Official-OneColor-White-16-9-e1693520063394.png
ORGANIZER;CN="Town of Glenrock":MAILTO:events@glenrock.org
END:VEVENT
BEGIN:VEVENT
DTSTART;TZID=America/Denver:20240708T173000
DTEND;TZID=America/Denver:20240708T173000
DTSTAMP:20260423T153708
CREATED:20230831T215501Z
LAST-MODIFIED:20240314T140010Z
UID:10000012-1720459800-1720459800@glenrock.org
SUMMARY:Town Council Meeting
DESCRIPTION:Town Council Meetings are also livestreamed on YouTube. Click here for the Town’s YouTube channel.
URL:https://glenrock.org/event/town-council-meeting/2024-07-08/
LOCATION:Town Hall – Council Chambers\, 219 S 3RD ST\, Glenrock\, WY\, 82637\, United States
CATEGORIES:Town Council
ATTACH;FMTTYPE=image/png:https://glenrock.org/wp-content/uploads/2023/08/TOG-Logo-Official-OneColor-White-16-9-e1693520063394.png
ORGANIZER;CN="Town of Glenrock":MAILTO:events@glenrock.org
END:VEVENT
END:VCALENDAR