BEGIN:VCALENDAR
VERSION:2.0
PRODID:-//Town of Glenrock - ECPv6.15.20//NONSGML v1.0//EN
CALSCALE:GREGORIAN
METHOD:PUBLISH
X-WR-CALNAME:Town of Glenrock
X-ORIGINAL-URL:https://glenrock.org
X-WR-CALDESC:Events for Town of Glenrock
REFRESH-INTERVAL;VALUE=DURATION:PT1H
X-Robots-Tag:noindex
X-PUBLISHED-TTL:PT1H
BEGIN:VTIMEZONE
TZID:America/Denver
BEGIN:DAYLIGHT
TZOFFSETFROM:-0700
TZOFFSETTO:-0600
TZNAME:MDT
DTSTART:20230312T090000
END:DAYLIGHT
BEGIN:STANDARD
TZOFFSETFROM:-0600
TZOFFSETTO:-0700
TZNAME:MST
DTSTART:20231105T080000
END:STANDARD
BEGIN:DAYLIGHT
TZOFFSETFROM:-0700
TZOFFSETTO:-0600
TZNAME:MDT
DTSTART:20240310T090000
END:DAYLIGHT
BEGIN:STANDARD
TZOFFSETFROM:-0600
TZOFFSETTO:-0700
TZNAME:MST
DTSTART:20241103T080000
END:STANDARD
BEGIN:DAYLIGHT
TZOFFSETFROM:-0700
TZOFFSETTO:-0600
TZNAME:MDT
DTSTART:20250309T090000
END:DAYLIGHT
BEGIN:STANDARD
TZOFFSETFROM:-0600
TZOFFSETTO:-0700
TZNAME:MST
DTSTART:20251102T080000
END:STANDARD
BEGIN:DAYLIGHT
TZOFFSETFROM:-0700
TZOFFSETTO:-0600
TZNAME:MDT
DTSTART:20260308T090000
END:DAYLIGHT
BEGIN:STANDARD
TZOFFSETFROM:-0600
TZOFFSETTO:-0700
TZNAME:MST
DTSTART:20261101T080000
END:STANDARD
BEGIN:DAYLIGHT
TZOFFSETFROM:-0700
TZOFFSETTO:-0600
TZNAME:MDT
DTSTART:20270314T090000
END:DAYLIGHT
BEGIN:STANDARD
TZOFFSETFROM:-0600
TZOFFSETTO:-0700
TZNAME:MST
DTSTART:20271107T080000
END:STANDARD
END:VTIMEZONE
BEGIN:VEVENT
DTSTART;TZID=America/Denver:20260407T170000
DTEND;TZID=America/Denver:20260407T180000
DTSTAMP:20260423T140630
CREATED:20240319T150353Z
LAST-MODIFIED:20240319T150353Z
UID:10000173-1775581200-1775584800@glenrock.org
SUMMARY:Planning and Zoning Commission Meeting
DESCRIPTION:Meeting of the Planning and Zoning Commission held in the Town Council Chambers at the Town Hall.
URL:https://glenrock.org/event/planning-and-zoning-commission-meeting/2026-04-07/
LOCATION:Town Hall – Council Chambers\, 219 S 3RD ST\, Glenrock\, WY\, 82637\, United States
CATEGORIES:Town Hall
ATTACH;FMTTYPE=image/png:https://glenrock.org/wp-content/uploads/2023/08/TOG-Logo-Official-OneColor-White-16-9-e1693520063394.png
ORGANIZER;CN="Town of Glenrock":MAILTO:events@glenrock.org
END:VEVENT
BEGIN:VEVENT
DTSTART;TZID=America/Denver:20260403T120000
DTEND;TZID=America/Denver:20260403T170000
DTSTAMP:20260423T140630
CREATED:20251203T190430Z
LAST-MODIFIED:20251203T190443Z
UID:10000237-1775217600-1775235600@glenrock.org
SUMMARY:Town Hall Closed
DESCRIPTION:
URL:https://glenrock.org/event/town-hall-closed/2026-04-03/
CATEGORIES:Town Hall
END:VEVENT
BEGIN:VEVENT
DTSTART;TZID=America/Denver:20260303T170000
DTEND;TZID=America/Denver:20260303T180000
DTSTAMP:20260423T140630
CREATED:20240319T150353Z
LAST-MODIFIED:20240319T150353Z
UID:10000172-1772557200-1772560800@glenrock.org
SUMMARY:Planning and Zoning Commission Meeting
DESCRIPTION:Meeting of the Planning and Zoning Commission held in the Town Council Chambers at the Town Hall.
URL:https://glenrock.org/event/planning-and-zoning-commission-meeting/2026-03-03/
LOCATION:Town Hall – Council Chambers\, 219 S 3RD ST\, Glenrock\, WY\, 82637\, United States
CATEGORIES:Town Hall
ATTACH;FMTTYPE=image/png:https://glenrock.org/wp-content/uploads/2023/08/TOG-Logo-Official-OneColor-White-16-9-e1693520063394.png
ORGANIZER;CN="Town of Glenrock":MAILTO:events@glenrock.org
END:VEVENT
BEGIN:VEVENT
DTSTART;TZID=America/Denver:20260216T080000
DTEND;TZID=America/Denver:20260216T170000
DTSTAMP:20260423T140630
CREATED:20251203T190430Z
LAST-MODIFIED:20251203T190443Z
UID:10000236-1771228800-1771261200@glenrock.org
SUMMARY:Town Hall Closed
DESCRIPTION:
URL:https://glenrock.org/event/town-hall-closed/2026-02-16/
CATEGORIES:Town Hall
END:VEVENT
BEGIN:VEVENT
DTSTART;TZID=America/Denver:20260203T170000
DTEND;TZID=America/Denver:20260203T180000
DTSTAMP:20260423T140630
CREATED:20240319T150353Z
LAST-MODIFIED:20240319T150353Z
UID:10000171-1770138000-1770141600@glenrock.org
SUMMARY:Planning and Zoning Commission Meeting
DESCRIPTION:Meeting of the Planning and Zoning Commission held in the Town Council Chambers at the Town Hall.
URL:https://glenrock.org/event/planning-and-zoning-commission-meeting/2026-02-03/
LOCATION:Town Hall – Council Chambers\, 219 S 3RD ST\, Glenrock\, WY\, 82637\, United States
CATEGORIES:Town Hall
ATTACH;FMTTYPE=image/png:https://glenrock.org/wp-content/uploads/2023/08/TOG-Logo-Official-OneColor-White-16-9-e1693520063394.png
ORGANIZER;CN="Town of Glenrock":MAILTO:events@glenrock.org
END:VEVENT
BEGIN:VEVENT
DTSTART;TZID=America/Denver:20260119T080000
DTEND;TZID=America/Denver:20260119T170000
DTSTAMP:20260423T140630
CREATED:20251203T190430Z
LAST-MODIFIED:20251203T190443Z
UID:10000235-1768809600-1768842000@glenrock.org
SUMMARY:Town Hall Closed
DESCRIPTION:
URL:https://glenrock.org/event/town-hall-closed/2026-01-19/
CATEGORIES:Town Hall
END:VEVENT
BEGIN:VEVENT
DTSTART;TZID=America/Denver:20260106T170000
DTEND;TZID=America/Denver:20260106T180000
DTSTAMP:20260423T140630
CREATED:20240319T150353Z
LAST-MODIFIED:20240319T150353Z
UID:10000170-1767718800-1767722400@glenrock.org
SUMMARY:Planning and Zoning Commission Meeting
DESCRIPTION:Meeting of the Planning and Zoning Commission held in the Town Council Chambers at the Town Hall.
URL:https://glenrock.org/event/planning-and-zoning-commission-meeting/2026-01-06/
LOCATION:Town Hall – Council Chambers\, 219 S 3RD ST\, Glenrock\, WY\, 82637\, United States
CATEGORIES:Town Hall
ATTACH;FMTTYPE=image/png:https://glenrock.org/wp-content/uploads/2023/08/TOG-Logo-Official-OneColor-White-16-9-e1693520063394.png
ORGANIZER;CN="Town of Glenrock":MAILTO:events@glenrock.org
END:VEVENT
BEGIN:VEVENT
DTSTART;TZID=America/Denver:20260101T080000
DTEND;TZID=America/Denver:20260101T170000
DTSTAMP:20260423T140630
CREATED:20251203T190430Z
LAST-MODIFIED:20251203T190443Z
UID:10000234-1767254400-1767286800@glenrock.org
SUMMARY:Town Hall Closed
DESCRIPTION:
URL:https://glenrock.org/event/town-hall-closed/2026-01-01/
CATEGORIES:Town Hall
END:VEVENT
BEGIN:VEVENT
DTSTART;TZID=America/Denver:20251202T170000
DTEND;TZID=America/Denver:20251202T180000
DTSTAMP:20260423T140630
CREATED:20240319T150353Z
LAST-MODIFIED:20240319T150353Z
UID:10000169-1764694800-1764698400@glenrock.org
SUMMARY:Planning and Zoning Commission Meeting
DESCRIPTION:Meeting of the Planning and Zoning Commission held in the Town Council Chambers at the Town Hall.
URL:https://glenrock.org/event/planning-and-zoning-commission-meeting/2025-12-02/
LOCATION:Town Hall – Council Chambers\, 219 S 3RD ST\, Glenrock\, WY\, 82637\, United States
CATEGORIES:Town Hall
ATTACH;FMTTYPE=image/png:https://glenrock.org/wp-content/uploads/2023/08/TOG-Logo-Official-OneColor-White-16-9-e1693520063394.png
ORGANIZER;CN="Town of Glenrock":MAILTO:events@glenrock.org
END:VEVENT
BEGIN:VEVENT
DTSTART;TZID=America/Denver:20251104T170000
DTEND;TZID=America/Denver:20251104T180000
DTSTAMP:20260423T140630
CREATED:20240319T150353Z
LAST-MODIFIED:20240319T150353Z
UID:10000168-1762275600-1762279200@glenrock.org
SUMMARY:Planning and Zoning Commission Meeting
DESCRIPTION:Meeting of the Planning and Zoning Commission held in the Town Council Chambers at the Town Hall.
URL:https://glenrock.org/event/planning-and-zoning-commission-meeting/2025-11-04/
LOCATION:Town Hall – Council Chambers\, 219 S 3RD ST\, Glenrock\, WY\, 82637\, United States
CATEGORIES:Town Hall
ATTACH;FMTTYPE=image/png:https://glenrock.org/wp-content/uploads/2023/08/TOG-Logo-Official-OneColor-White-16-9-e1693520063394.png
ORGANIZER;CN="Town of Glenrock":MAILTO:events@glenrock.org
END:VEVENT
BEGIN:VEVENT
DTSTART;TZID=America/Denver:20251007T170000
DTEND;TZID=America/Denver:20251007T180000
DTSTAMP:20260423T140630
CREATED:20240319T150353Z
LAST-MODIFIED:20240319T150353Z
UID:10000167-1759856400-1759860000@glenrock.org
SUMMARY:Planning and Zoning Commission Meeting
DESCRIPTION:Meeting of the Planning and Zoning Commission held in the Town Council Chambers at the Town Hall.
URL:https://glenrock.org/event/planning-and-zoning-commission-meeting/2025-10-07/
LOCATION:Town Hall – Council Chambers\, 219 S 3RD ST\, Glenrock\, WY\, 82637\, United States
CATEGORIES:Town Hall
ATTACH;FMTTYPE=image/png:https://glenrock.org/wp-content/uploads/2023/08/TOG-Logo-Official-OneColor-White-16-9-e1693520063394.png
ORGANIZER;CN="Town of Glenrock":MAILTO:events@glenrock.org
END:VEVENT
BEGIN:VEVENT
DTSTART;TZID=America/Denver:20250902T170000
DTEND;TZID=America/Denver:20250902T180000
DTSTAMP:20260423T140630
CREATED:20240319T150353Z
LAST-MODIFIED:20240319T150353Z
UID:10000166-1756832400-1756836000@glenrock.org
SUMMARY:Planning and Zoning Commission Meeting
DESCRIPTION:Meeting of the Planning and Zoning Commission held in the Town Council Chambers at the Town Hall.
URL:https://glenrock.org/event/planning-and-zoning-commission-meeting/2025-09-02/
LOCATION:Town Hall – Council Chambers\, 219 S 3RD ST\, Glenrock\, WY\, 82637\, United States
CATEGORIES:Town Hall
ATTACH;FMTTYPE=image/png:https://glenrock.org/wp-content/uploads/2023/08/TOG-Logo-Official-OneColor-White-16-9-e1693520063394.png
ORGANIZER;CN="Town of Glenrock":MAILTO:events@glenrock.org
END:VEVENT
BEGIN:VEVENT
DTSTART;TZID=America/Denver:20250805T170000
DTEND;TZID=America/Denver:20250805T180000
DTSTAMP:20260423T140630
CREATED:20240319T150353Z
LAST-MODIFIED:20240319T150353Z
UID:10000165-1754413200-1754416800@glenrock.org
SUMMARY:Planning and Zoning Commission Meeting
DESCRIPTION:Meeting of the Planning and Zoning Commission held in the Town Council Chambers at the Town Hall.
URL:https://glenrock.org/event/planning-and-zoning-commission-meeting/2025-08-05/
LOCATION:Town Hall – Council Chambers\, 219 S 3RD ST\, Glenrock\, WY\, 82637\, United States
CATEGORIES:Town Hall
ATTACH;FMTTYPE=image/png:https://glenrock.org/wp-content/uploads/2023/08/TOG-Logo-Official-OneColor-White-16-9-e1693520063394.png
ORGANIZER;CN="Town of Glenrock":MAILTO:events@glenrock.org
END:VEVENT
BEGIN:VEVENT
DTSTART;TZID=America/Denver:20250701T170000
DTEND;TZID=America/Denver:20250701T180000
DTSTAMP:20260423T140630
CREATED:20240319T150353Z
LAST-MODIFIED:20240319T150353Z
UID:10000164-1751389200-1751392800@glenrock.org
SUMMARY:Planning and Zoning Commission Meeting
DESCRIPTION:Meeting of the Planning and Zoning Commission held in the Town Council Chambers at the Town Hall.
URL:https://glenrock.org/event/planning-and-zoning-commission-meeting/2025-07-01/
LOCATION:Town Hall – Council Chambers\, 219 S 3RD ST\, Glenrock\, WY\, 82637\, United States
CATEGORIES:Town Hall
ATTACH;FMTTYPE=image/png:https://glenrock.org/wp-content/uploads/2023/08/TOG-Logo-Official-OneColor-White-16-9-e1693520063394.png
ORGANIZER;CN="Town of Glenrock":MAILTO:events@glenrock.org
END:VEVENT
BEGIN:VEVENT
DTSTART;TZID=America/Denver:20250603T170000
DTEND;TZID=America/Denver:20250603T180000
DTSTAMP:20260423T140630
CREATED:20240319T150353Z
LAST-MODIFIED:20240319T150353Z
UID:10000163-1748970000-1748973600@glenrock.org
SUMMARY:Planning and Zoning Commission Meeting
DESCRIPTION:Meeting of the Planning and Zoning Commission held in the Town Council Chambers at the Town Hall.
URL:https://glenrock.org/event/planning-and-zoning-commission-meeting/2025-06-03/
LOCATION:Town Hall – Council Chambers\, 219 S 3RD ST\, Glenrock\, WY\, 82637\, United States
CATEGORIES:Town Hall
ATTACH;FMTTYPE=image/png:https://glenrock.org/wp-content/uploads/2023/08/TOG-Logo-Official-OneColor-White-16-9-e1693520063394.png
ORGANIZER;CN="Town of Glenrock":MAILTO:events@glenrock.org
END:VEVENT
BEGIN:VEVENT
DTSTART;TZID=America/Denver:20250506T170000
DTEND;TZID=America/Denver:20250506T180000
DTSTAMP:20260423T140630
CREATED:20240319T150353Z
LAST-MODIFIED:20240319T150353Z
UID:10000162-1746550800-1746554400@glenrock.org
SUMMARY:Planning and Zoning Commission Meeting
DESCRIPTION:Meeting of the Planning and Zoning Commission held in the Town Council Chambers at the Town Hall.
URL:https://glenrock.org/event/planning-and-zoning-commission-meeting/2025-05-06/
LOCATION:Town Hall – Council Chambers\, 219 S 3RD ST\, Glenrock\, WY\, 82637\, United States
CATEGORIES:Town Hall
ATTACH;FMTTYPE=image/png:https://glenrock.org/wp-content/uploads/2023/08/TOG-Logo-Official-OneColor-White-16-9-e1693520063394.png
ORGANIZER;CN="Town of Glenrock":MAILTO:events@glenrock.org
END:VEVENT
BEGIN:VEVENT
DTSTART;TZID=America/Denver:20250401T170000
DTEND;TZID=America/Denver:20250401T180000
DTSTAMP:20260423T140630
CREATED:20240319T150353Z
LAST-MODIFIED:20240319T150353Z
UID:10000161-1743526800-1743530400@glenrock.org
SUMMARY:Planning and Zoning Commission Meeting
DESCRIPTION:Meeting of the Planning and Zoning Commission held in the Town Council Chambers at the Town Hall.
URL:https://glenrock.org/event/planning-and-zoning-commission-meeting/2025-04-01/
LOCATION:Town Hall – Council Chambers\, 219 S 3RD ST\, Glenrock\, WY\, 82637\, United States
CATEGORIES:Town Hall
ATTACH;FMTTYPE=image/png:https://glenrock.org/wp-content/uploads/2023/08/TOG-Logo-Official-OneColor-White-16-9-e1693520063394.png
ORGANIZER;CN="Town of Glenrock":MAILTO:events@glenrock.org
END:VEVENT
BEGIN:VEVENT
DTSTART;TZID=America/Denver:20250304T170000
DTEND;TZID=America/Denver:20250304T180000
DTSTAMP:20260423T140630
CREATED:20240319T150353Z
LAST-MODIFIED:20240319T150353Z
UID:10000160-1741107600-1741111200@glenrock.org
SUMMARY:Planning and Zoning Commission Meeting
DESCRIPTION:Meeting of the Planning and Zoning Commission held in the Town Council Chambers at the Town Hall.
URL:https://glenrock.org/event/planning-and-zoning-commission-meeting/2025-03-04/
LOCATION:Town Hall – Council Chambers\, 219 S 3RD ST\, Glenrock\, WY\, 82637\, United States
CATEGORIES:Town Hall
ATTACH;FMTTYPE=image/png:https://glenrock.org/wp-content/uploads/2023/08/TOG-Logo-Official-OneColor-White-16-9-e1693520063394.png
ORGANIZER;CN="Town of Glenrock":MAILTO:events@glenrock.org
END:VEVENT
BEGIN:VEVENT
DTSTART;TZID=America/Denver:20250204T170000
DTEND;TZID=America/Denver:20250204T180000
DTSTAMP:20260423T140630
CREATED:20240319T150353Z
LAST-MODIFIED:20240319T150353Z
UID:10000159-1738688400-1738692000@glenrock.org
SUMMARY:Planning and Zoning Commission Meeting
DESCRIPTION:Meeting of the Planning and Zoning Commission held in the Town Council Chambers at the Town Hall.
URL:https://glenrock.org/event/planning-and-zoning-commission-meeting/2025-02-04/
LOCATION:Town Hall – Council Chambers\, 219 S 3RD ST\, Glenrock\, WY\, 82637\, United States
CATEGORIES:Town Hall
ATTACH;FMTTYPE=image/png:https://glenrock.org/wp-content/uploads/2023/08/TOG-Logo-Official-OneColor-White-16-9-e1693520063394.png
ORGANIZER;CN="Town of Glenrock":MAILTO:events@glenrock.org
END:VEVENT
BEGIN:VEVENT
DTSTART;TZID=America/Denver:20250107T170000
DTEND;TZID=America/Denver:20250107T180000
DTSTAMP:20260423T140630
CREATED:20240319T150353Z
LAST-MODIFIED:20240319T150353Z
UID:10000158-1736269200-1736272800@glenrock.org
SUMMARY:Planning and Zoning Commission Meeting
DESCRIPTION:Meeting of the Planning and Zoning Commission held in the Town Council Chambers at the Town Hall.
URL:https://glenrock.org/event/planning-and-zoning-commission-meeting/2025-01-07/
LOCATION:Town Hall – Council Chambers\, 219 S 3RD ST\, Glenrock\, WY\, 82637\, United States
CATEGORIES:Town Hall
ATTACH;FMTTYPE=image/png:https://glenrock.org/wp-content/uploads/2023/08/TOG-Logo-Official-OneColor-White-16-9-e1693520063394.png
ORGANIZER;CN="Town of Glenrock":MAILTO:events@glenrock.org
END:VEVENT
BEGIN:VEVENT
DTSTART;TZID=America/Denver:20241203T170000
DTEND;TZID=America/Denver:20241203T180000
DTSTAMP:20260423T140630
CREATED:20240319T150353Z
LAST-MODIFIED:20240319T150353Z
UID:10000157-1733245200-1733248800@glenrock.org
SUMMARY:Planning and Zoning Commission Meeting
DESCRIPTION:Meeting of the Planning and Zoning Commission held in the Town Council Chambers at the Town Hall.
URL:https://glenrock.org/event/planning-and-zoning-commission-meeting/2024-12-03/
LOCATION:Town Hall – Council Chambers\, 219 S 3RD ST\, Glenrock\, WY\, 82637\, United States
CATEGORIES:Town Hall
ATTACH;FMTTYPE=image/png:https://glenrock.org/wp-content/uploads/2023/08/TOG-Logo-Official-OneColor-White-16-9-e1693520063394.png
ORGANIZER;CN="Town of Glenrock":MAILTO:events@glenrock.org
END:VEVENT
BEGIN:VEVENT
DTSTART;TZID=America/Denver:20241105T170000
DTEND;TZID=America/Denver:20241105T180000
DTSTAMP:20260423T140630
CREATED:20240319T150353Z
LAST-MODIFIED:20240319T150353Z
UID:10000156-1730826000-1730829600@glenrock.org
SUMMARY:Planning and Zoning Commission Meeting
DESCRIPTION:Meeting of the Planning and Zoning Commission held in the Town Council Chambers at the Town Hall.
URL:https://glenrock.org/event/planning-and-zoning-commission-meeting/2024-11-05/
LOCATION:Town Hall – Council Chambers\, 219 S 3RD ST\, Glenrock\, WY\, 82637\, United States
CATEGORIES:Town Hall
ATTACH;FMTTYPE=image/png:https://glenrock.org/wp-content/uploads/2023/08/TOG-Logo-Official-OneColor-White-16-9-e1693520063394.png
ORGANIZER;CN="Town of Glenrock":MAILTO:events@glenrock.org
END:VEVENT
BEGIN:VEVENT
DTSTART;TZID=America/Denver:20241001T170000
DTEND;TZID=America/Denver:20241001T180000
DTSTAMP:20260423T140630
CREATED:20240319T150353Z
LAST-MODIFIED:20240319T150353Z
UID:10000155-1727802000-1727805600@glenrock.org
SUMMARY:Planning and Zoning Commission Meeting
DESCRIPTION:Meeting of the Planning and Zoning Commission held in the Town Council Chambers at the Town Hall.
URL:https://glenrock.org/event/planning-and-zoning-commission-meeting/2024-10-01/
LOCATION:Town Hall – Council Chambers\, 219 S 3RD ST\, Glenrock\, WY\, 82637\, United States
CATEGORIES:Town Hall
ATTACH;FMTTYPE=image/png:https://glenrock.org/wp-content/uploads/2023/08/TOG-Logo-Official-OneColor-White-16-9-e1693520063394.png
ORGANIZER;CN="Town of Glenrock":MAILTO:events@glenrock.org
END:VEVENT
BEGIN:VEVENT
DTSTART;TZID=America/Denver:20240903T170000
DTEND;TZID=America/Denver:20240903T180000
DTSTAMP:20260423T140630
CREATED:20240319T150353Z
LAST-MODIFIED:20240319T150353Z
UID:10000154-1725382800-1725386400@glenrock.org
SUMMARY:Planning and Zoning Commission Meeting
DESCRIPTION:Meeting of the Planning and Zoning Commission held in the Town Council Chambers at the Town Hall.
URL:https://glenrock.org/event/planning-and-zoning-commission-meeting/2024-09-03/
LOCATION:Town Hall – Council Chambers\, 219 S 3RD ST\, Glenrock\, WY\, 82637\, United States
CATEGORIES:Town Hall
ATTACH;FMTTYPE=image/png:https://glenrock.org/wp-content/uploads/2023/08/TOG-Logo-Official-OneColor-White-16-9-e1693520063394.png
ORGANIZER;CN="Town of Glenrock":MAILTO:events@glenrock.org
END:VEVENT
BEGIN:VEVENT
DTSTART;TZID=America/Denver:20240806T170000
DTEND;TZID=America/Denver:20240806T180000
DTSTAMP:20260423T140630
CREATED:20240319T150353Z
LAST-MODIFIED:20240319T150353Z
UID:10000153-1722963600-1722967200@glenrock.org
SUMMARY:Planning and Zoning Commission Meeting
DESCRIPTION:Meeting of the Planning and Zoning Commission held in the Town Council Chambers at the Town Hall.
URL:https://glenrock.org/event/planning-and-zoning-commission-meeting/2024-08-06/
LOCATION:Town Hall – Council Chambers\, 219 S 3RD ST\, Glenrock\, WY\, 82637\, United States
CATEGORIES:Town Hall
ATTACH;FMTTYPE=image/png:https://glenrock.org/wp-content/uploads/2023/08/TOG-Logo-Official-OneColor-White-16-9-e1693520063394.png
ORGANIZER;CN="Town of Glenrock":MAILTO:events@glenrock.org
END:VEVENT
BEGIN:VEVENT
DTSTART;TZID=America/Denver:20240702T170000
DTEND;TZID=America/Denver:20240702T180000
DTSTAMP:20260423T140630
CREATED:20240319T150353Z
LAST-MODIFIED:20240319T150353Z
UID:10000152-1719939600-1719943200@glenrock.org
SUMMARY:Planning and Zoning Commission Meeting
DESCRIPTION:Meeting of the Planning and Zoning Commission held in the Town Council Chambers at the Town Hall.
URL:https://glenrock.org/event/planning-and-zoning-commission-meeting/2024-07-02/
LOCATION:Town Hall – Council Chambers\, 219 S 3RD ST\, Glenrock\, WY\, 82637\, United States
CATEGORIES:Town Hall
ATTACH;FMTTYPE=image/png:https://glenrock.org/wp-content/uploads/2023/08/TOG-Logo-Official-OneColor-White-16-9-e1693520063394.png
ORGANIZER;CN="Town of Glenrock":MAILTO:events@glenrock.org
END:VEVENT
BEGIN:VEVENT
DTSTART;TZID=America/Denver:20240604T170000
DTEND;TZID=America/Denver:20240604T180000
DTSTAMP:20260423T140630
CREATED:20240319T150353Z
LAST-MODIFIED:20240319T150353Z
UID:10000151-1717520400-1717524000@glenrock.org
SUMMARY:Planning and Zoning Commission Meeting
DESCRIPTION:Meeting of the Planning and Zoning Commission held in the Town Council Chambers at the Town Hall.
URL:https://glenrock.org/event/planning-and-zoning-commission-meeting/2024-06-04/
LOCATION:Town Hall – Council Chambers\, 219 S 3RD ST\, Glenrock\, WY\, 82637\, United States
CATEGORIES:Town Hall
ATTACH;FMTTYPE=image/png:https://glenrock.org/wp-content/uploads/2023/08/TOG-Logo-Official-OneColor-White-16-9-e1693520063394.png
ORGANIZER;CN="Town of Glenrock":MAILTO:events@glenrock.org
END:VEVENT
BEGIN:VEVENT
DTSTART;TZID=America/Denver:20240507T170000
DTEND;TZID=America/Denver:20240507T180000
DTSTAMP:20260423T140630
CREATED:20240319T150353Z
LAST-MODIFIED:20240319T150353Z
UID:10000150-1715101200-1715104800@glenrock.org
SUMMARY:Planning and Zoning Commission Meeting
DESCRIPTION:Meeting of the Planning and Zoning Commission held in the Town Council Chambers at the Town Hall.
URL:https://glenrock.org/event/planning-and-zoning-commission-meeting/2024-05-07/
LOCATION:Town Hall – Council Chambers\, 219 S 3RD ST\, Glenrock\, WY\, 82637\, United States
CATEGORIES:Town Hall
ATTACH;FMTTYPE=image/png:https://glenrock.org/wp-content/uploads/2023/08/TOG-Logo-Official-OneColor-White-16-9-e1693520063394.png
ORGANIZER;CN="Town of Glenrock":MAILTO:events@glenrock.org
END:VEVENT
BEGIN:VEVENT
DTSTART;TZID=America/Denver:20240410T180000
DTEND;TZID=America/Denver:20240410T190000
DTSTAMP:20260423T140630
CREATED:20240319T150050Z
LAST-MODIFIED:20240319T150050Z
UID:10000148-1712772000-1712775600@glenrock.org
SUMMARY:Deer Creek Days Meeting
DESCRIPTION:The next meeting for Deer Creek Days will be April 10th at 6PM at the Town Hall.
URL:https://glenrock.org/event/deer-creek-days-meeting/
LOCATION:Town Hall\, 219 S 3rd St\, Glenrock\, WY\, 82637\, United States
CATEGORIES:Town Hall
ATTACH;FMTTYPE=image/png:https://glenrock.org/wp-content/uploads/2023/08/TOG-Logo-Official-OneColor-White-16-9-e1693520063394.png
ORGANIZER;CN="Elevate Glenrock":MAILTO:director@elevateglenrock.com
END:VEVENT
BEGIN:VEVENT
DTSTART;TZID=America/Denver:20240402T170000
DTEND;TZID=America/Denver:20240402T180000
DTSTAMP:20260423T140630
CREATED:20240319T150353Z
LAST-MODIFIED:20240319T150353Z
UID:10000149-1712077200-1712080800@glenrock.org
SUMMARY:Planning and Zoning Commission Meeting
DESCRIPTION:Meeting of the Planning and Zoning Commission held in the Town Council Chambers at the Town Hall.
URL:https://glenrock.org/event/planning-and-zoning-commission-meeting/2024-04-02/
LOCATION:Town Hall – Council Chambers\, 219 S 3RD ST\, Glenrock\, WY\, 82637\, United States
CATEGORIES:Town Hall
ATTACH;FMTTYPE=image/png:https://glenrock.org/wp-content/uploads/2023/08/TOG-Logo-Official-OneColor-White-16-9-e1693520063394.png
ORGANIZER;CN="Town of Glenrock":MAILTO:events@glenrock.org
END:VEVENT
END:VCALENDAR