BEGIN:VCALENDAR
VERSION:2.0
PRODID:-//Town of Glenrock - ECPv6.15.20//NONSGML v1.0//EN
CALSCALE:GREGORIAN
METHOD:PUBLISH
X-ORIGINAL-URL:https://glenrock.org
X-WR-CALDESC:Events for Town of Glenrock
REFRESH-INTERVAL;VALUE=DURATION:PT1H
X-Robots-Tag:noindex
X-PUBLISHED-TTL:PT1H
BEGIN:VTIMEZONE
TZID:America/Denver
BEGIN:DAYLIGHT
TZOFFSETFROM:-0700
TZOFFSETTO:-0600
TZNAME:MDT
DTSTART:20250309T090000
END:DAYLIGHT
BEGIN:STANDARD
TZOFFSETFROM:-0600
TZOFFSETTO:-0700
TZNAME:MST
DTSTART:20251102T080000
END:STANDARD
BEGIN:DAYLIGHT
TZOFFSETFROM:-0700
TZOFFSETTO:-0600
TZNAME:MDT
DTSTART:20260308T090000
END:DAYLIGHT
BEGIN:STANDARD
TZOFFSETFROM:-0600
TZOFFSETTO:-0700
TZNAME:MST
DTSTART:20261101T080000
END:STANDARD
BEGIN:DAYLIGHT
TZOFFSETFROM:-0700
TZOFFSETTO:-0600
TZNAME:MDT
DTSTART:20270314T090000
END:DAYLIGHT
BEGIN:STANDARD
TZOFFSETFROM:-0600
TZOFFSETTO:-0700
TZNAME:MST
DTSTART:20271107T080000
END:STANDARD
BEGIN:DAYLIGHT
TZOFFSETFROM:-0700
TZOFFSETTO:-0600
TZNAME:MDT
DTSTART:20280312T090000
END:DAYLIGHT
BEGIN:STANDARD
TZOFFSETFROM:-0600
TZOFFSETTO:-0700
TZNAME:MST
DTSTART:20281105T080000
END:STANDARD
END:VTIMEZONE
BEGIN:VEVENT
DTSTART;TZID=America/Denver:20260901T170000
DTEND;TZID=America/Denver:20260901T180000
DTSTAMP:20260423T142003
CREATED:20240319T150353Z
LAST-MODIFIED:20240319T150353Z
UID:10000178-1788282000-1788285600@glenrock.org
SUMMARY:Planning and Zoning Commission Meeting
DESCRIPTION:Meeting of the Planning and Zoning Commission held in the Town Council Chambers at the Town Hall.
URL:https://glenrock.org/event/planning-and-zoning-commission-meeting/2026-09-01/
LOCATION:Town Hall – Council Chambers\, 219 S 3RD ST\, Glenrock\, WY\, 82637\, United States
CATEGORIES:Town Hall
ATTACH;FMTTYPE=image/png:https://glenrock.org/wp-content/uploads/2023/08/TOG-Logo-Official-OneColor-White-16-9-e1693520063394.png
ORGANIZER;CN="Town of Glenrock":MAILTO:events@glenrock.org
END:VEVENT
BEGIN:VEVENT
DTSTART;TZID=America/Denver:20260907T080000
DTEND;TZID=America/Denver:20260907T170000
DTSTAMP:20260423T142003
CREATED:20251203T190430Z
LAST-MODIFIED:20251203T190443Z
UID:10000241-1788768000-1788800400@glenrock.org
SUMMARY:Town Hall Closed
DESCRIPTION:
URL:https://glenrock.org/event/town-hall-closed/2026-09-07/
CATEGORIES:Town Hall
END:VEVENT
BEGIN:VEVENT
DTSTART;TZID=America/Denver:20260916T183000
DTEND;TZID=America/Denver:20260916T203000
DTSTAMP:20260423T142003
CREATED:20240314T134900Z
LAST-MODIFIED:20240314T135700Z
UID:10000118-1789583400-1789590600@glenrock.org
SUMMARY:Municipal Court
DESCRIPTION:Municipal Court is held on the 3rd Wednesday of each month in the Town Council Chambers\, Glenrock Town Hall\, at 6:30 PM. Municipal fines may also be paid to the dispatcher at the Police Department or online by clicking here.  The Police Department has dispatchers on duty 24 hours a day.
URL:https://glenrock.org/event/municipal-court/2026-09-16/
LOCATION:Town Hall – Council Chambers\, 219 S 3RD ST\, Glenrock\, WY\, 82637\, United States
ATTACH;FMTTYPE=image/jpeg:https://glenrock.org/wp-content/uploads/2024/03/court-featured-image.jpg
ORGANIZER;CN="Town of Glenrock":MAILTO:events@glenrock.org
END:VEVENT
BEGIN:VEVENT
DTSTART;TZID=America/Denver:20261006T170000
DTEND;TZID=America/Denver:20261006T180000
DTSTAMP:20260423T142003
CREATED:20240319T150353Z
LAST-MODIFIED:20240319T150353Z
UID:10000179-1791306000-1791309600@glenrock.org
SUMMARY:Planning and Zoning Commission Meeting
DESCRIPTION:Meeting of the Planning and Zoning Commission held in the Town Council Chambers at the Town Hall.
URL:https://glenrock.org/event/planning-and-zoning-commission-meeting/2026-10-06/
LOCATION:Town Hall – Council Chambers\, 219 S 3RD ST\, Glenrock\, WY\, 82637\, United States
CATEGORIES:Town Hall
ATTACH;FMTTYPE=image/png:https://glenrock.org/wp-content/uploads/2023/08/TOG-Logo-Official-OneColor-White-16-9-e1693520063394.png
ORGANIZER;CN="Town of Glenrock":MAILTO:events@glenrock.org
END:VEVENT
BEGIN:VEVENT
DTSTART;TZID=America/Denver:20261021T183000
DTEND;TZID=America/Denver:20261021T203000
DTSTAMP:20260423T142003
CREATED:20240314T134900Z
LAST-MODIFIED:20240314T135700Z
UID:10000119-1792607400-1792614600@glenrock.org
SUMMARY:Municipal Court
DESCRIPTION:Municipal Court is held on the 3rd Wednesday of each month in the Town Council Chambers\, Glenrock Town Hall\, at 6:30 PM. Municipal fines may also be paid to the dispatcher at the Police Department or online by clicking here.  The Police Department has dispatchers on duty 24 hours a day.
URL:https://glenrock.org/event/municipal-court/2026-10-21/
LOCATION:Town Hall – Council Chambers\, 219 S 3RD ST\, Glenrock\, WY\, 82637\, United States
ATTACH;FMTTYPE=image/jpeg:https://glenrock.org/wp-content/uploads/2024/03/court-featured-image.jpg
ORGANIZER;CN="Town of Glenrock":MAILTO:events@glenrock.org
END:VEVENT
BEGIN:VEVENT
DTSTART;TZID=America/Denver:20261103T170000
DTEND;TZID=America/Denver:20261103T180000
DTSTAMP:20260423T142003
CREATED:20240319T150353Z
LAST-MODIFIED:20240319T150353Z
UID:10000180-1793725200-1793728800@glenrock.org
SUMMARY:Planning and Zoning Commission Meeting
DESCRIPTION:Meeting of the Planning and Zoning Commission held in the Town Council Chambers at the Town Hall.
URL:https://glenrock.org/event/planning-and-zoning-commission-meeting/2026-11-03/
LOCATION:Town Hall – Council Chambers\, 219 S 3RD ST\, Glenrock\, WY\, 82637\, United States
CATEGORIES:Town Hall
ATTACH;FMTTYPE=image/png:https://glenrock.org/wp-content/uploads/2023/08/TOG-Logo-Official-OneColor-White-16-9-e1693520063394.png
ORGANIZER;CN="Town of Glenrock":MAILTO:events@glenrock.org
END:VEVENT
BEGIN:VEVENT
DTSTART;TZID=America/Denver:20261111T080000
DTEND;TZID=America/Denver:20261111T170000
DTSTAMP:20260423T142003
CREATED:20251203T190430Z
LAST-MODIFIED:20251203T190443Z
UID:10000242-1794384000-1794416400@glenrock.org
SUMMARY:Town Hall Closed
DESCRIPTION:
URL:https://glenrock.org/event/town-hall-closed/2026-11-11/
CATEGORIES:Town Hall
END:VEVENT
BEGIN:VEVENT
DTSTART;TZID=America/Denver:20261118T183000
DTEND;TZID=America/Denver:20261118T203000
DTSTAMP:20260423T142003
CREATED:20240314T134900Z
LAST-MODIFIED:20240314T135700Z
UID:10000120-1795026600-1795033800@glenrock.org
SUMMARY:Municipal Court
DESCRIPTION:Municipal Court is held on the 3rd Wednesday of each month in the Town Council Chambers\, Glenrock Town Hall\, at 6:30 PM. Municipal fines may also be paid to the dispatcher at the Police Department or online by clicking here.  The Police Department has dispatchers on duty 24 hours a day.
URL:https://glenrock.org/event/municipal-court/2026-11-18/
LOCATION:Town Hall – Council Chambers\, 219 S 3RD ST\, Glenrock\, WY\, 82637\, United States
ATTACH;FMTTYPE=image/jpeg:https://glenrock.org/wp-content/uploads/2024/03/court-featured-image.jpg
ORGANIZER;CN="Town of Glenrock":MAILTO:events@glenrock.org
END:VEVENT
BEGIN:VEVENT
DTSTART;TZID=America/Denver:20261126T080000
DTEND;TZID=America/Denver:20261126T170000
DTSTAMP:20260423T142003
CREATED:20251203T190430Z
LAST-MODIFIED:20251203T190443Z
UID:10000243-1795680000-1795712400@glenrock.org
SUMMARY:Town Hall Closed
DESCRIPTION:
URL:https://glenrock.org/event/town-hall-closed/2026-11-26/
CATEGORIES:Town Hall
END:VEVENT
BEGIN:VEVENT
DTSTART;TZID=America/Denver:20261127T080000
DTEND;TZID=America/Denver:20261127T170000
DTSTAMP:20260423T142003
CREATED:20251203T190430Z
LAST-MODIFIED:20251203T190443Z
UID:10000244-1795766400-1795798800@glenrock.org
SUMMARY:Town Hall Closed
DESCRIPTION:
URL:https://glenrock.org/event/town-hall-closed/2026-11-27/
CATEGORIES:Town Hall
END:VEVENT
BEGIN:VEVENT
DTSTART;TZID=America/Denver:20261201T170000
DTEND;TZID=America/Denver:20261201T180000
DTSTAMP:20260423T142003
CREATED:20240319T150353Z
LAST-MODIFIED:20240319T150353Z
UID:10000181-1796144400-1796148000@glenrock.org
SUMMARY:Planning and Zoning Commission Meeting
DESCRIPTION:Meeting of the Planning and Zoning Commission held in the Town Council Chambers at the Town Hall.
URL:https://glenrock.org/event/planning-and-zoning-commission-meeting/2026-12-01/
LOCATION:Town Hall – Council Chambers\, 219 S 3RD ST\, Glenrock\, WY\, 82637\, United States
CATEGORIES:Town Hall
ATTACH;FMTTYPE=image/png:https://glenrock.org/wp-content/uploads/2023/08/TOG-Logo-Official-OneColor-White-16-9-e1693520063394.png
ORGANIZER;CN="Town of Glenrock":MAILTO:events@glenrock.org
END:VEVENT
BEGIN:VEVENT
DTSTART;TZID=America/Denver:20261216T183000
DTEND;TZID=America/Denver:20261216T203000
DTSTAMP:20260423T142003
CREATED:20240314T134900Z
LAST-MODIFIED:20240314T135700Z
UID:10000121-1797445800-1797453000@glenrock.org
SUMMARY:Municipal Court
DESCRIPTION:Municipal Court is held on the 3rd Wednesday of each month in the Town Council Chambers\, Glenrock Town Hall\, at 6:30 PM. Municipal fines may also be paid to the dispatcher at the Police Department or online by clicking here.  The Police Department has dispatchers on duty 24 hours a day.
URL:https://glenrock.org/event/municipal-court/2026-12-16/
LOCATION:Town Hall – Council Chambers\, 219 S 3RD ST\, Glenrock\, WY\, 82637\, United States
ATTACH;FMTTYPE=image/jpeg:https://glenrock.org/wp-content/uploads/2024/03/court-featured-image.jpg
ORGANIZER;CN="Town of Glenrock":MAILTO:events@glenrock.org
END:VEVENT
BEGIN:VEVENT
DTSTART;TZID=America/Denver:20261224T120000
DTEND;TZID=America/Denver:20261224T170000
DTSTAMP:20260423T142003
CREATED:20251203T190430Z
LAST-MODIFIED:20251203T190443Z
UID:10000245-1798113600-1798131600@glenrock.org
SUMMARY:Town Hall Closed
DESCRIPTION:
URL:https://glenrock.org/event/town-hall-closed/2026-12-24/
CATEGORIES:Town Hall
END:VEVENT
BEGIN:VEVENT
DTSTART;TZID=America/Denver:20261225T080000
DTEND;TZID=America/Denver:20261225T170000
DTSTAMP:20260423T142003
CREATED:20251203T190430Z
LAST-MODIFIED:20251203T190443Z
UID:10000246-1798185600-1798218000@glenrock.org
SUMMARY:Town Hall Closed
DESCRIPTION:
URL:https://glenrock.org/event/town-hall-closed/2026-12-25/
CATEGORIES:Town Hall
END:VEVENT
BEGIN:VEVENT
DTSTART;TZID=America/Denver:20270105T170000
DTEND;TZID=America/Denver:20270105T180000
DTSTAMP:20260423T142003
CREATED:20240319T150353Z
LAST-MODIFIED:20240319T150353Z
UID:10000182-1799168400-1799172000@glenrock.org
SUMMARY:Planning and Zoning Commission Meeting
DESCRIPTION:Meeting of the Planning and Zoning Commission held in the Town Council Chambers at the Town Hall.
URL:https://glenrock.org/event/planning-and-zoning-commission-meeting/2027-01-05/
LOCATION:Town Hall – Council Chambers\, 219 S 3RD ST\, Glenrock\, WY\, 82637\, United States
CATEGORIES:Town Hall
ATTACH;FMTTYPE=image/png:https://glenrock.org/wp-content/uploads/2023/08/TOG-Logo-Official-OneColor-White-16-9-e1693520063394.png
ORGANIZER;CN="Town of Glenrock":MAILTO:events@glenrock.org
END:VEVENT
BEGIN:VEVENT
DTSTART;TZID=America/Denver:20270120T183000
DTEND;TZID=America/Denver:20270120T203000
DTSTAMP:20260423T142003
CREATED:20240314T134900Z
LAST-MODIFIED:20240314T135700Z
UID:10000122-1800469800-1800477000@glenrock.org
SUMMARY:Municipal Court
DESCRIPTION:Municipal Court is held on the 3rd Wednesday of each month in the Town Council Chambers\, Glenrock Town Hall\, at 6:30 PM. Municipal fines may also be paid to the dispatcher at the Police Department or online by clicking here.  The Police Department has dispatchers on duty 24 hours a day.
URL:https://glenrock.org/event/municipal-court/2027-01-20/
LOCATION:Town Hall – Council Chambers\, 219 S 3RD ST\, Glenrock\, WY\, 82637\, United States
ATTACH;FMTTYPE=image/jpeg:https://glenrock.org/wp-content/uploads/2024/03/court-featured-image.jpg
ORGANIZER;CN="Town of Glenrock":MAILTO:events@glenrock.org
END:VEVENT
BEGIN:VEVENT
DTSTART;TZID=America/Denver:20270202T170000
DTEND;TZID=America/Denver:20270202T180000
DTSTAMP:20260423T142003
CREATED:20240319T150353Z
LAST-MODIFIED:20240319T150353Z
UID:10000183-1801587600-1801591200@glenrock.org
SUMMARY:Planning and Zoning Commission Meeting
DESCRIPTION:Meeting of the Planning and Zoning Commission held in the Town Council Chambers at the Town Hall.
URL:https://glenrock.org/event/planning-and-zoning-commission-meeting/2027-02-02/
LOCATION:Town Hall – Council Chambers\, 219 S 3RD ST\, Glenrock\, WY\, 82637\, United States
CATEGORIES:Town Hall
ATTACH;FMTTYPE=image/png:https://glenrock.org/wp-content/uploads/2023/08/TOG-Logo-Official-OneColor-White-16-9-e1693520063394.png
ORGANIZER;CN="Town of Glenrock":MAILTO:events@glenrock.org
END:VEVENT
BEGIN:VEVENT
DTSTART;TZID=America/Denver:20270217T183000
DTEND;TZID=America/Denver:20270217T203000
DTSTAMP:20260423T142003
CREATED:20240314T134900Z
LAST-MODIFIED:20240314T135700Z
UID:10000123-1802889000-1802896200@glenrock.org
SUMMARY:Municipal Court
DESCRIPTION:Municipal Court is held on the 3rd Wednesday of each month in the Town Council Chambers\, Glenrock Town Hall\, at 6:30 PM. Municipal fines may also be paid to the dispatcher at the Police Department or online by clicking here.  The Police Department has dispatchers on duty 24 hours a day.
URL:https://glenrock.org/event/municipal-court/2027-02-17/
LOCATION:Town Hall – Council Chambers\, 219 S 3RD ST\, Glenrock\, WY\, 82637\, United States
ATTACH;FMTTYPE=image/jpeg:https://glenrock.org/wp-content/uploads/2024/03/court-featured-image.jpg
ORGANIZER;CN="Town of Glenrock":MAILTO:events@glenrock.org
END:VEVENT
BEGIN:VEVENT
DTSTART;TZID=America/Denver:20270302T170000
DTEND;TZID=America/Denver:20270302T180000
DTSTAMP:20260423T142003
CREATED:20240319T150353Z
LAST-MODIFIED:20240319T150353Z
UID:10000184-1804006800-1804010400@glenrock.org
SUMMARY:Planning and Zoning Commission Meeting
DESCRIPTION:Meeting of the Planning and Zoning Commission held in the Town Council Chambers at the Town Hall.
URL:https://glenrock.org/event/planning-and-zoning-commission-meeting/2027-03-02/
LOCATION:Town Hall – Council Chambers\, 219 S 3RD ST\, Glenrock\, WY\, 82637\, United States
CATEGORIES:Town Hall
ATTACH;FMTTYPE=image/png:https://glenrock.org/wp-content/uploads/2023/08/TOG-Logo-Official-OneColor-White-16-9-e1693520063394.png
ORGANIZER;CN="Town of Glenrock":MAILTO:events@glenrock.org
END:VEVENT
BEGIN:VEVENT
DTSTART;TZID=America/Denver:20270317T183000
DTEND;TZID=America/Denver:20270317T203000
DTSTAMP:20260423T142003
CREATED:20240314T134900Z
LAST-MODIFIED:20240314T135700Z
UID:10000124-1805308200-1805315400@glenrock.org
SUMMARY:Municipal Court
DESCRIPTION:Municipal Court is held on the 3rd Wednesday of each month in the Town Council Chambers\, Glenrock Town Hall\, at 6:30 PM. Municipal fines may also be paid to the dispatcher at the Police Department or online by clicking here.  The Police Department has dispatchers on duty 24 hours a day.
URL:https://glenrock.org/event/municipal-court/2027-03-17/
LOCATION:Town Hall – Council Chambers\, 219 S 3RD ST\, Glenrock\, WY\, 82637\, United States
ATTACH;FMTTYPE=image/jpeg:https://glenrock.org/wp-content/uploads/2024/03/court-featured-image.jpg
ORGANIZER;CN="Town of Glenrock":MAILTO:events@glenrock.org
END:VEVENT
BEGIN:VEVENT
DTSTART;TZID=America/Denver:20270406T170000
DTEND;TZID=America/Denver:20270406T180000
DTSTAMP:20260423T142003
CREATED:20240319T150353Z
LAST-MODIFIED:20240319T150353Z
UID:10000185-1807030800-1807034400@glenrock.org
SUMMARY:Planning and Zoning Commission Meeting
DESCRIPTION:Meeting of the Planning and Zoning Commission held in the Town Council Chambers at the Town Hall.
URL:https://glenrock.org/event/planning-and-zoning-commission-meeting/2027-04-06/
LOCATION:Town Hall – Council Chambers\, 219 S 3RD ST\, Glenrock\, WY\, 82637\, United States
CATEGORIES:Town Hall
ATTACH;FMTTYPE=image/png:https://glenrock.org/wp-content/uploads/2023/08/TOG-Logo-Official-OneColor-White-16-9-e1693520063394.png
ORGANIZER;CN="Town of Glenrock":MAILTO:events@glenrock.org
END:VEVENT
BEGIN:VEVENT
DTSTART;TZID=America/Denver:20270421T183000
DTEND;TZID=America/Denver:20270421T203000
DTSTAMP:20260423T142003
CREATED:20240314T134900Z
LAST-MODIFIED:20240314T135700Z
UID:10000125-1808332200-1808339400@glenrock.org
SUMMARY:Municipal Court
DESCRIPTION:Municipal Court is held on the 3rd Wednesday of each month in the Town Council Chambers\, Glenrock Town Hall\, at 6:30 PM. Municipal fines may also be paid to the dispatcher at the Police Department or online by clicking here.  The Police Department has dispatchers on duty 24 hours a day.
URL:https://glenrock.org/event/municipal-court/2027-04-21/
LOCATION:Town Hall – Council Chambers\, 219 S 3RD ST\, Glenrock\, WY\, 82637\, United States
ATTACH;FMTTYPE=image/jpeg:https://glenrock.org/wp-content/uploads/2024/03/court-featured-image.jpg
ORGANIZER;CN="Town of Glenrock":MAILTO:events@glenrock.org
END:VEVENT
BEGIN:VEVENT
DTSTART;TZID=America/Denver:20270504T170000
DTEND;TZID=America/Denver:20270504T180000
DTSTAMP:20260423T142003
CREATED:20240319T150353Z
LAST-MODIFIED:20240319T150353Z
UID:10000186-1809450000-1809453600@glenrock.org
SUMMARY:Planning and Zoning Commission Meeting
DESCRIPTION:Meeting of the Planning and Zoning Commission held in the Town Council Chambers at the Town Hall.
URL:https://glenrock.org/event/planning-and-zoning-commission-meeting/2027-05-04/
LOCATION:Town Hall – Council Chambers\, 219 S 3RD ST\, Glenrock\, WY\, 82637\, United States
CATEGORIES:Town Hall
ATTACH;FMTTYPE=image/png:https://glenrock.org/wp-content/uploads/2023/08/TOG-Logo-Official-OneColor-White-16-9-e1693520063394.png
ORGANIZER;CN="Town of Glenrock":MAILTO:events@glenrock.org
END:VEVENT
BEGIN:VEVENT
DTSTART;TZID=America/Denver:20270519T183000
DTEND;TZID=America/Denver:20270519T203000
DTSTAMP:20260423T142003
CREATED:20240314T134900Z
LAST-MODIFIED:20240314T135700Z
UID:10000126-1810751400-1810758600@glenrock.org
SUMMARY:Municipal Court
DESCRIPTION:Municipal Court is held on the 3rd Wednesday of each month in the Town Council Chambers\, Glenrock Town Hall\, at 6:30 PM. Municipal fines may also be paid to the dispatcher at the Police Department or online by clicking here.  The Police Department has dispatchers on duty 24 hours a day.
URL:https://glenrock.org/event/municipal-court/2027-05-19/
LOCATION:Town Hall – Council Chambers\, 219 S 3RD ST\, Glenrock\, WY\, 82637\, United States
ATTACH;FMTTYPE=image/jpeg:https://glenrock.org/wp-content/uploads/2024/03/court-featured-image.jpg
ORGANIZER;CN="Town of Glenrock":MAILTO:events@glenrock.org
END:VEVENT
BEGIN:VEVENT
DTSTART;TZID=America/Denver:20270601T170000
DTEND;TZID=America/Denver:20270601T180000
DTSTAMP:20260423T142003
CREATED:20240319T150353Z
LAST-MODIFIED:20240319T150353Z
UID:10000187-1811869200-1811872800@glenrock.org
SUMMARY:Planning and Zoning Commission Meeting
DESCRIPTION:Meeting of the Planning and Zoning Commission held in the Town Council Chambers at the Town Hall.
URL:https://glenrock.org/event/planning-and-zoning-commission-meeting/2027-06-01/
LOCATION:Town Hall – Council Chambers\, 219 S 3RD ST\, Glenrock\, WY\, 82637\, United States
CATEGORIES:Town Hall
ATTACH;FMTTYPE=image/png:https://glenrock.org/wp-content/uploads/2023/08/TOG-Logo-Official-OneColor-White-16-9-e1693520063394.png
ORGANIZER;CN="Town of Glenrock":MAILTO:events@glenrock.org
END:VEVENT
BEGIN:VEVENT
DTSTART;TZID=America/Denver:20270616T183000
DTEND;TZID=America/Denver:20270616T203000
DTSTAMP:20260423T142003
CREATED:20240314T134900Z
LAST-MODIFIED:20240314T135700Z
UID:10000127-1813170600-1813177800@glenrock.org
SUMMARY:Municipal Court
DESCRIPTION:Municipal Court is held on the 3rd Wednesday of each month in the Town Council Chambers\, Glenrock Town Hall\, at 6:30 PM. Municipal fines may also be paid to the dispatcher at the Police Department or online by clicking here.  The Police Department has dispatchers on duty 24 hours a day.
URL:https://glenrock.org/event/municipal-court/2027-06-16/
LOCATION:Town Hall – Council Chambers\, 219 S 3RD ST\, Glenrock\, WY\, 82637\, United States
ATTACH;FMTTYPE=image/jpeg:https://glenrock.org/wp-content/uploads/2024/03/court-featured-image.jpg
ORGANIZER;CN="Town of Glenrock":MAILTO:events@glenrock.org
END:VEVENT
BEGIN:VEVENT
DTSTART;TZID=America/Denver:20270706T170000
DTEND;TZID=America/Denver:20270706T180000
DTSTAMP:20260423T142003
CREATED:20240319T150353Z
LAST-MODIFIED:20240319T150353Z
UID:10000188-1814893200-1814896800@glenrock.org
SUMMARY:Planning and Zoning Commission Meeting
DESCRIPTION:Meeting of the Planning and Zoning Commission held in the Town Council Chambers at the Town Hall.
URL:https://glenrock.org/event/planning-and-zoning-commission-meeting/2027-07-06/
LOCATION:Town Hall – Council Chambers\, 219 S 3RD ST\, Glenrock\, WY\, 82637\, United States
CATEGORIES:Town Hall
ATTACH;FMTTYPE=image/png:https://glenrock.org/wp-content/uploads/2023/08/TOG-Logo-Official-OneColor-White-16-9-e1693520063394.png
ORGANIZER;CN="Town of Glenrock":MAILTO:events@glenrock.org
END:VEVENT
BEGIN:VEVENT
DTSTART;TZID=America/Denver:20270721T183000
DTEND;TZID=America/Denver:20270721T203000
DTSTAMP:20260423T142003
CREATED:20240314T134900Z
LAST-MODIFIED:20240314T135700Z
UID:10000128-1816194600-1816201800@glenrock.org
SUMMARY:Municipal Court
DESCRIPTION:Municipal Court is held on the 3rd Wednesday of each month in the Town Council Chambers\, Glenrock Town Hall\, at 6:30 PM. Municipal fines may also be paid to the dispatcher at the Police Department or online by clicking here.  The Police Department has dispatchers on duty 24 hours a day.
URL:https://glenrock.org/event/municipal-court/2027-07-21/
LOCATION:Town Hall – Council Chambers\, 219 S 3RD ST\, Glenrock\, WY\, 82637\, United States
ATTACH;FMTTYPE=image/jpeg:https://glenrock.org/wp-content/uploads/2024/03/court-featured-image.jpg
ORGANIZER;CN="Town of Glenrock":MAILTO:events@glenrock.org
END:VEVENT
BEGIN:VEVENT
DTSTART;TZID=America/Denver:20270803T170000
DTEND;TZID=America/Denver:20270803T180000
DTSTAMP:20260423T142003
CREATED:20240319T150353Z
LAST-MODIFIED:20240319T150353Z
UID:10000189-1817312400-1817316000@glenrock.org
SUMMARY:Planning and Zoning Commission Meeting
DESCRIPTION:Meeting of the Planning and Zoning Commission held in the Town Council Chambers at the Town Hall.
URL:https://glenrock.org/event/planning-and-zoning-commission-meeting/2027-08-03/
LOCATION:Town Hall – Council Chambers\, 219 S 3RD ST\, Glenrock\, WY\, 82637\, United States
CATEGORIES:Town Hall
ATTACH;FMTTYPE=image/png:https://glenrock.org/wp-content/uploads/2023/08/TOG-Logo-Official-OneColor-White-16-9-e1693520063394.png
ORGANIZER;CN="Town of Glenrock":MAILTO:events@glenrock.org
END:VEVENT
BEGIN:VEVENT
DTSTART;TZID=America/Denver:20270818T183000
DTEND;TZID=America/Denver:20270818T203000
DTSTAMP:20260423T142003
CREATED:20240314T134900Z
LAST-MODIFIED:20240314T135700Z
UID:10000129-1818613800-1818621000@glenrock.org
SUMMARY:Municipal Court
DESCRIPTION:Municipal Court is held on the 3rd Wednesday of each month in the Town Council Chambers\, Glenrock Town Hall\, at 6:30 PM. Municipal fines may also be paid to the dispatcher at the Police Department or online by clicking here.  The Police Department has dispatchers on duty 24 hours a day.
URL:https://glenrock.org/event/municipal-court/2027-08-18/
LOCATION:Town Hall – Council Chambers\, 219 S 3RD ST\, Glenrock\, WY\, 82637\, United States
ATTACH;FMTTYPE=image/jpeg:https://glenrock.org/wp-content/uploads/2024/03/court-featured-image.jpg
ORGANIZER;CN="Town of Glenrock":MAILTO:events@glenrock.org
END:VEVENT
END:VCALENDAR