BEGIN:VCALENDAR
VERSION:2.0
PRODID:-//Town of Glenrock - ECPv6.15.20//NONSGML v1.0//EN
CALSCALE:GREGORIAN
METHOD:PUBLISH
X-WR-CALNAME:Town of Glenrock
X-ORIGINAL-URL:https://glenrock.org
X-WR-CALDESC:Events for Town of Glenrock
REFRESH-INTERVAL;VALUE=DURATION:PT1H
X-Robots-Tag:noindex
X-PUBLISHED-TTL:PT1H
BEGIN:VTIMEZONE
TZID:America/Denver
BEGIN:DAYLIGHT
TZOFFSETFROM:-0700
TZOFFSETTO:-0600
TZNAME:MDT
DTSTART:20260308T090000
END:DAYLIGHT
BEGIN:STANDARD
TZOFFSETFROM:-0600
TZOFFSETTO:-0700
TZNAME:MST
DTSTART:20261101T080000
END:STANDARD
BEGIN:DAYLIGHT
TZOFFSETFROM:-0700
TZOFFSETTO:-0600
TZNAME:MDT
DTSTART:20270314T090000
END:DAYLIGHT
BEGIN:STANDARD
TZOFFSETFROM:-0600
TZOFFSETTO:-0700
TZNAME:MST
DTSTART:20271107T080000
END:STANDARD
BEGIN:DAYLIGHT
TZOFFSETFROM:-0700
TZOFFSETTO:-0600
TZNAME:MDT
DTSTART:20280312T090000
END:DAYLIGHT
BEGIN:STANDARD
TZOFFSETFROM:-0600
TZOFFSETTO:-0700
TZNAME:MST
DTSTART:20281105T080000
END:STANDARD
BEGIN:DAYLIGHT
TZOFFSETFROM:-0700
TZOFFSETTO:-0600
TZNAME:MDT
DTSTART:20290311T090000
END:DAYLIGHT
BEGIN:STANDARD
TZOFFSETFROM:-0600
TZOFFSETTO:-0700
TZNAME:MST
DTSTART:20291104T080000
END:STANDARD
END:VTIMEZONE
BEGIN:VEVENT
DTSTART;TZID=America/Denver:20270217T183000
DTEND;TZID=America/Denver:20270217T203000
DTSTAMP:20260423T172117
CREATED:20240314T134900Z
LAST-MODIFIED:20240314T135700Z
UID:10000123-1802889000-1802896200@glenrock.org
SUMMARY:Municipal Court
DESCRIPTION:Municipal Court is held on the 3rd Wednesday of each month in the Town Council Chambers\, Glenrock Town Hall\, at 6:30 PM. Municipal fines may also be paid to the dispatcher at the Police Department or online by clicking here.  The Police Department has dispatchers on duty 24 hours a day.
URL:https://glenrock.org/event/municipal-court/2027-02-17/
LOCATION:Town Hall – Council Chambers\, 219 S 3RD ST\, Glenrock\, WY\, 82637\, United States
ATTACH;FMTTYPE=image/jpeg:https://glenrock.org/wp-content/uploads/2024/03/court-featured-image.jpg
ORGANIZER;CN="Town of Glenrock":MAILTO:events@glenrock.org
END:VEVENT
BEGIN:VEVENT
DTSTART;TZID=America/Denver:20270302T170000
DTEND;TZID=America/Denver:20270302T180000
DTSTAMP:20260423T172117
CREATED:20240319T150353Z
LAST-MODIFIED:20240319T150353Z
UID:10000184-1804006800-1804010400@glenrock.org
SUMMARY:Planning and Zoning Commission Meeting
DESCRIPTION:Meeting of the Planning and Zoning Commission held in the Town Council Chambers at the Town Hall.
URL:https://glenrock.org/event/planning-and-zoning-commission-meeting/2027-03-02/
LOCATION:Town Hall – Council Chambers\, 219 S 3RD ST\, Glenrock\, WY\, 82637\, United States
CATEGORIES:Town Hall
ATTACH;FMTTYPE=image/png:https://glenrock.org/wp-content/uploads/2023/08/TOG-Logo-Official-OneColor-White-16-9-e1693520063394.png
ORGANIZER;CN="Town of Glenrock":MAILTO:events@glenrock.org
END:VEVENT
BEGIN:VEVENT
DTSTART;TZID=America/Denver:20270317T183000
DTEND;TZID=America/Denver:20270317T203000
DTSTAMP:20260423T172117
CREATED:20240314T134900Z
LAST-MODIFIED:20240314T135700Z
UID:10000124-1805308200-1805315400@glenrock.org
SUMMARY:Municipal Court
DESCRIPTION:Municipal Court is held on the 3rd Wednesday of each month in the Town Council Chambers\, Glenrock Town Hall\, at 6:30 PM. Municipal fines may also be paid to the dispatcher at the Police Department or online by clicking here.  The Police Department has dispatchers on duty 24 hours a day.
URL:https://glenrock.org/event/municipal-court/2027-03-17/
LOCATION:Town Hall – Council Chambers\, 219 S 3RD ST\, Glenrock\, WY\, 82637\, United States
ATTACH;FMTTYPE=image/jpeg:https://glenrock.org/wp-content/uploads/2024/03/court-featured-image.jpg
ORGANIZER;CN="Town of Glenrock":MAILTO:events@glenrock.org
END:VEVENT
BEGIN:VEVENT
DTSTART;TZID=America/Denver:20270406T170000
DTEND;TZID=America/Denver:20270406T180000
DTSTAMP:20260423T172117
CREATED:20240319T150353Z
LAST-MODIFIED:20240319T150353Z
UID:10000185-1807030800-1807034400@glenrock.org
SUMMARY:Planning and Zoning Commission Meeting
DESCRIPTION:Meeting of the Planning and Zoning Commission held in the Town Council Chambers at the Town Hall.
URL:https://glenrock.org/event/planning-and-zoning-commission-meeting/2027-04-06/
LOCATION:Town Hall – Council Chambers\, 219 S 3RD ST\, Glenrock\, WY\, 82637\, United States
CATEGORIES:Town Hall
ATTACH;FMTTYPE=image/png:https://glenrock.org/wp-content/uploads/2023/08/TOG-Logo-Official-OneColor-White-16-9-e1693520063394.png
ORGANIZER;CN="Town of Glenrock":MAILTO:events@glenrock.org
END:VEVENT
BEGIN:VEVENT
DTSTART;TZID=America/Denver:20270421T183000
DTEND;TZID=America/Denver:20270421T203000
DTSTAMP:20260423T172117
CREATED:20240314T134900Z
LAST-MODIFIED:20240314T135700Z
UID:10000125-1808332200-1808339400@glenrock.org
SUMMARY:Municipal Court
DESCRIPTION:Municipal Court is held on the 3rd Wednesday of each month in the Town Council Chambers\, Glenrock Town Hall\, at 6:30 PM. Municipal fines may also be paid to the dispatcher at the Police Department or online by clicking here.  The Police Department has dispatchers on duty 24 hours a day.
URL:https://glenrock.org/event/municipal-court/2027-04-21/
LOCATION:Town Hall – Council Chambers\, 219 S 3RD ST\, Glenrock\, WY\, 82637\, United States
ATTACH;FMTTYPE=image/jpeg:https://glenrock.org/wp-content/uploads/2024/03/court-featured-image.jpg
ORGANIZER;CN="Town of Glenrock":MAILTO:events@glenrock.org
END:VEVENT
BEGIN:VEVENT
DTSTART;TZID=America/Denver:20270504T170000
DTEND;TZID=America/Denver:20270504T180000
DTSTAMP:20260423T172117
CREATED:20240319T150353Z
LAST-MODIFIED:20240319T150353Z
UID:10000186-1809450000-1809453600@glenrock.org
SUMMARY:Planning and Zoning Commission Meeting
DESCRIPTION:Meeting of the Planning and Zoning Commission held in the Town Council Chambers at the Town Hall.
URL:https://glenrock.org/event/planning-and-zoning-commission-meeting/2027-05-04/
LOCATION:Town Hall – Council Chambers\, 219 S 3RD ST\, Glenrock\, WY\, 82637\, United States
CATEGORIES:Town Hall
ATTACH;FMTTYPE=image/png:https://glenrock.org/wp-content/uploads/2023/08/TOG-Logo-Official-OneColor-White-16-9-e1693520063394.png
ORGANIZER;CN="Town of Glenrock":MAILTO:events@glenrock.org
END:VEVENT
BEGIN:VEVENT
DTSTART;TZID=America/Denver:20270519T183000
DTEND;TZID=America/Denver:20270519T203000
DTSTAMP:20260423T172117
CREATED:20240314T134900Z
LAST-MODIFIED:20240314T135700Z
UID:10000126-1810751400-1810758600@glenrock.org
SUMMARY:Municipal Court
DESCRIPTION:Municipal Court is held on the 3rd Wednesday of each month in the Town Council Chambers\, Glenrock Town Hall\, at 6:30 PM. Municipal fines may also be paid to the dispatcher at the Police Department or online by clicking here.  The Police Department has dispatchers on duty 24 hours a day.
URL:https://glenrock.org/event/municipal-court/2027-05-19/
LOCATION:Town Hall – Council Chambers\, 219 S 3RD ST\, Glenrock\, WY\, 82637\, United States
ATTACH;FMTTYPE=image/jpeg:https://glenrock.org/wp-content/uploads/2024/03/court-featured-image.jpg
ORGANIZER;CN="Town of Glenrock":MAILTO:events@glenrock.org
END:VEVENT
BEGIN:VEVENT
DTSTART;TZID=America/Denver:20270601T170000
DTEND;TZID=America/Denver:20270601T180000
DTSTAMP:20260423T172117
CREATED:20240319T150353Z
LAST-MODIFIED:20240319T150353Z
UID:10000187-1811869200-1811872800@glenrock.org
SUMMARY:Planning and Zoning Commission Meeting
DESCRIPTION:Meeting of the Planning and Zoning Commission held in the Town Council Chambers at the Town Hall.
URL:https://glenrock.org/event/planning-and-zoning-commission-meeting/2027-06-01/
LOCATION:Town Hall – Council Chambers\, 219 S 3RD ST\, Glenrock\, WY\, 82637\, United States
CATEGORIES:Town Hall
ATTACH;FMTTYPE=image/png:https://glenrock.org/wp-content/uploads/2023/08/TOG-Logo-Official-OneColor-White-16-9-e1693520063394.png
ORGANIZER;CN="Town of Glenrock":MAILTO:events@glenrock.org
END:VEVENT
BEGIN:VEVENT
DTSTART;TZID=America/Denver:20270616T183000
DTEND;TZID=America/Denver:20270616T203000
DTSTAMP:20260423T172117
CREATED:20240314T134900Z
LAST-MODIFIED:20240314T135700Z
UID:10000127-1813170600-1813177800@glenrock.org
SUMMARY:Municipal Court
DESCRIPTION:Municipal Court is held on the 3rd Wednesday of each month in the Town Council Chambers\, Glenrock Town Hall\, at 6:30 PM. Municipal fines may also be paid to the dispatcher at the Police Department or online by clicking here.  The Police Department has dispatchers on duty 24 hours a day.
URL:https://glenrock.org/event/municipal-court/2027-06-16/
LOCATION:Town Hall – Council Chambers\, 219 S 3RD ST\, Glenrock\, WY\, 82637\, United States
ATTACH;FMTTYPE=image/jpeg:https://glenrock.org/wp-content/uploads/2024/03/court-featured-image.jpg
ORGANIZER;CN="Town of Glenrock":MAILTO:events@glenrock.org
END:VEVENT
BEGIN:VEVENT
DTSTART;TZID=America/Denver:20270706T170000
DTEND;TZID=America/Denver:20270706T180000
DTSTAMP:20260423T172117
CREATED:20240319T150353Z
LAST-MODIFIED:20240319T150353Z
UID:10000188-1814893200-1814896800@glenrock.org
SUMMARY:Planning and Zoning Commission Meeting
DESCRIPTION:Meeting of the Planning and Zoning Commission held in the Town Council Chambers at the Town Hall.
URL:https://glenrock.org/event/planning-and-zoning-commission-meeting/2027-07-06/
LOCATION:Town Hall – Council Chambers\, 219 S 3RD ST\, Glenrock\, WY\, 82637\, United States
CATEGORIES:Town Hall
ATTACH;FMTTYPE=image/png:https://glenrock.org/wp-content/uploads/2023/08/TOG-Logo-Official-OneColor-White-16-9-e1693520063394.png
ORGANIZER;CN="Town of Glenrock":MAILTO:events@glenrock.org
END:VEVENT
BEGIN:VEVENT
DTSTART;TZID=America/Denver:20270721T183000
DTEND;TZID=America/Denver:20270721T203000
DTSTAMP:20260423T172117
CREATED:20240314T134900Z
LAST-MODIFIED:20240314T135700Z
UID:10000128-1816194600-1816201800@glenrock.org
SUMMARY:Municipal Court
DESCRIPTION:Municipal Court is held on the 3rd Wednesday of each month in the Town Council Chambers\, Glenrock Town Hall\, at 6:30 PM. Municipal fines may also be paid to the dispatcher at the Police Department or online by clicking here.  The Police Department has dispatchers on duty 24 hours a day.
URL:https://glenrock.org/event/municipal-court/2027-07-21/
LOCATION:Town Hall – Council Chambers\, 219 S 3RD ST\, Glenrock\, WY\, 82637\, United States
ATTACH;FMTTYPE=image/jpeg:https://glenrock.org/wp-content/uploads/2024/03/court-featured-image.jpg
ORGANIZER;CN="Town of Glenrock":MAILTO:events@glenrock.org
END:VEVENT
BEGIN:VEVENT
DTSTART;TZID=America/Denver:20270803T170000
DTEND;TZID=America/Denver:20270803T180000
DTSTAMP:20260423T172117
CREATED:20240319T150353Z
LAST-MODIFIED:20240319T150353Z
UID:10000189-1817312400-1817316000@glenrock.org
SUMMARY:Planning and Zoning Commission Meeting
DESCRIPTION:Meeting of the Planning and Zoning Commission held in the Town Council Chambers at the Town Hall.
URL:https://glenrock.org/event/planning-and-zoning-commission-meeting/2027-08-03/
LOCATION:Town Hall – Council Chambers\, 219 S 3RD ST\, Glenrock\, WY\, 82637\, United States
CATEGORIES:Town Hall
ATTACH;FMTTYPE=image/png:https://glenrock.org/wp-content/uploads/2023/08/TOG-Logo-Official-OneColor-White-16-9-e1693520063394.png
ORGANIZER;CN="Town of Glenrock":MAILTO:events@glenrock.org
END:VEVENT
BEGIN:VEVENT
DTSTART;TZID=America/Denver:20270818T183000
DTEND;TZID=America/Denver:20270818T203000
DTSTAMP:20260423T172117
CREATED:20240314T134900Z
LAST-MODIFIED:20240314T135700Z
UID:10000129-1818613800-1818621000@glenrock.org
SUMMARY:Municipal Court
DESCRIPTION:Municipal Court is held on the 3rd Wednesday of each month in the Town Council Chambers\, Glenrock Town Hall\, at 6:30 PM. Municipal fines may also be paid to the dispatcher at the Police Department or online by clicking here.  The Police Department has dispatchers on duty 24 hours a day.
URL:https://glenrock.org/event/municipal-court/2027-08-18/
LOCATION:Town Hall – Council Chambers\, 219 S 3RD ST\, Glenrock\, WY\, 82637\, United States
ATTACH;FMTTYPE=image/jpeg:https://glenrock.org/wp-content/uploads/2024/03/court-featured-image.jpg
ORGANIZER;CN="Town of Glenrock":MAILTO:events@glenrock.org
END:VEVENT
BEGIN:VEVENT
DTSTART;TZID=America/Denver:20270907T170000
DTEND;TZID=America/Denver:20270907T180000
DTSTAMP:20260423T172117
CREATED:20240319T150353Z
LAST-MODIFIED:20240319T150353Z
UID:10000190-1820336400-1820340000@glenrock.org
SUMMARY:Planning and Zoning Commission Meeting
DESCRIPTION:Meeting of the Planning and Zoning Commission held in the Town Council Chambers at the Town Hall.
URL:https://glenrock.org/event/planning-and-zoning-commission-meeting/2027-09-07/
LOCATION:Town Hall – Council Chambers\, 219 S 3RD ST\, Glenrock\, WY\, 82637\, United States
CATEGORIES:Town Hall
ATTACH;FMTTYPE=image/png:https://glenrock.org/wp-content/uploads/2023/08/TOG-Logo-Official-OneColor-White-16-9-e1693520063394.png
ORGANIZER;CN="Town of Glenrock":MAILTO:events@glenrock.org
END:VEVENT
BEGIN:VEVENT
DTSTART;TZID=America/Denver:20270915T183000
DTEND;TZID=America/Denver:20270915T203000
DTSTAMP:20260423T172117
CREATED:20240314T134900Z
LAST-MODIFIED:20240314T135700Z
UID:10000130-1821033000-1821040200@glenrock.org
SUMMARY:Municipal Court
DESCRIPTION:Municipal Court is held on the 3rd Wednesday of each month in the Town Council Chambers\, Glenrock Town Hall\, at 6:30 PM. Municipal fines may also be paid to the dispatcher at the Police Department or online by clicking here.  The Police Department has dispatchers on duty 24 hours a day.
URL:https://glenrock.org/event/municipal-court/2027-09-15/
LOCATION:Town Hall – Council Chambers\, 219 S 3RD ST\, Glenrock\, WY\, 82637\, United States
ATTACH;FMTTYPE=image/jpeg:https://glenrock.org/wp-content/uploads/2024/03/court-featured-image.jpg
ORGANIZER;CN="Town of Glenrock":MAILTO:events@glenrock.org
END:VEVENT
BEGIN:VEVENT
DTSTART;TZID=America/Denver:20271005T170000
DTEND;TZID=America/Denver:20271005T180000
DTSTAMP:20260423T172117
CREATED:20240319T150353Z
LAST-MODIFIED:20240319T150353Z
UID:10000191-1822755600-1822759200@glenrock.org
SUMMARY:Planning and Zoning Commission Meeting
DESCRIPTION:Meeting of the Planning and Zoning Commission held in the Town Council Chambers at the Town Hall.
URL:https://glenrock.org/event/planning-and-zoning-commission-meeting/2027-10-05/
LOCATION:Town Hall – Council Chambers\, 219 S 3RD ST\, Glenrock\, WY\, 82637\, United States
CATEGORIES:Town Hall
ATTACH;FMTTYPE=image/png:https://glenrock.org/wp-content/uploads/2023/08/TOG-Logo-Official-OneColor-White-16-9-e1693520063394.png
ORGANIZER;CN="Town of Glenrock":MAILTO:events@glenrock.org
END:VEVENT
BEGIN:VEVENT
DTSTART;TZID=America/Denver:20271020T183000
DTEND;TZID=America/Denver:20271020T203000
DTSTAMP:20260423T172117
CREATED:20240314T134900Z
LAST-MODIFIED:20240314T135700Z
UID:10000131-1824057000-1824064200@glenrock.org
SUMMARY:Municipal Court
DESCRIPTION:Municipal Court is held on the 3rd Wednesday of each month in the Town Council Chambers\, Glenrock Town Hall\, at 6:30 PM. Municipal fines may also be paid to the dispatcher at the Police Department or online by clicking here.  The Police Department has dispatchers on duty 24 hours a day.
URL:https://glenrock.org/event/municipal-court/2027-10-20/
LOCATION:Town Hall – Council Chambers\, 219 S 3RD ST\, Glenrock\, WY\, 82637\, United States
ATTACH;FMTTYPE=image/jpeg:https://glenrock.org/wp-content/uploads/2024/03/court-featured-image.jpg
ORGANIZER;CN="Town of Glenrock":MAILTO:events@glenrock.org
END:VEVENT
BEGIN:VEVENT
DTSTART;TZID=America/Denver:20271102T170000
DTEND;TZID=America/Denver:20271102T180000
DTSTAMP:20260423T172117
CREATED:20240319T150353Z
LAST-MODIFIED:20240319T150353Z
UID:10000192-1825174800-1825178400@glenrock.org
SUMMARY:Planning and Zoning Commission Meeting
DESCRIPTION:Meeting of the Planning and Zoning Commission held in the Town Council Chambers at the Town Hall.
URL:https://glenrock.org/event/planning-and-zoning-commission-meeting/2027-11-02/
LOCATION:Town Hall – Council Chambers\, 219 S 3RD ST\, Glenrock\, WY\, 82637\, United States
CATEGORIES:Town Hall
ATTACH;FMTTYPE=image/png:https://glenrock.org/wp-content/uploads/2023/08/TOG-Logo-Official-OneColor-White-16-9-e1693520063394.png
ORGANIZER;CN="Town of Glenrock":MAILTO:events@glenrock.org
END:VEVENT
BEGIN:VEVENT
DTSTART;TZID=America/Denver:20271117T183000
DTEND;TZID=America/Denver:20271117T203000
DTSTAMP:20260423T172117
CREATED:20240314T134900Z
LAST-MODIFIED:20240314T135700Z
UID:10000132-1826476200-1826483400@glenrock.org
SUMMARY:Municipal Court
DESCRIPTION:Municipal Court is held on the 3rd Wednesday of each month in the Town Council Chambers\, Glenrock Town Hall\, at 6:30 PM. Municipal fines may also be paid to the dispatcher at the Police Department or online by clicking here.  The Police Department has dispatchers on duty 24 hours a day.
URL:https://glenrock.org/event/municipal-court/2027-11-17/
LOCATION:Town Hall – Council Chambers\, 219 S 3RD ST\, Glenrock\, WY\, 82637\, United States
ATTACH;FMTTYPE=image/jpeg:https://glenrock.org/wp-content/uploads/2024/03/court-featured-image.jpg
ORGANIZER;CN="Town of Glenrock":MAILTO:events@glenrock.org
END:VEVENT
BEGIN:VEVENT
DTSTART;TZID=America/Denver:20271207T170000
DTEND;TZID=America/Denver:20271207T180000
DTSTAMP:20260423T172117
CREATED:20240319T150353Z
LAST-MODIFIED:20240319T150353Z
UID:10000193-1828198800-1828202400@glenrock.org
SUMMARY:Planning and Zoning Commission Meeting
DESCRIPTION:Meeting of the Planning and Zoning Commission held in the Town Council Chambers at the Town Hall.
URL:https://glenrock.org/event/planning-and-zoning-commission-meeting/2027-12-07/
LOCATION:Town Hall – Council Chambers\, 219 S 3RD ST\, Glenrock\, WY\, 82637\, United States
CATEGORIES:Town Hall
ATTACH;FMTTYPE=image/png:https://glenrock.org/wp-content/uploads/2023/08/TOG-Logo-Official-OneColor-White-16-9-e1693520063394.png
ORGANIZER;CN="Town of Glenrock":MAILTO:events@glenrock.org
END:VEVENT
BEGIN:VEVENT
DTSTART;TZID=America/Denver:20271215T183000
DTEND;TZID=America/Denver:20271215T203000
DTSTAMP:20260423T172117
CREATED:20240314T134900Z
LAST-MODIFIED:20240314T135700Z
UID:10000133-1828895400-1828902600@glenrock.org
SUMMARY:Municipal Court
DESCRIPTION:Municipal Court is held on the 3rd Wednesday of each month in the Town Council Chambers\, Glenrock Town Hall\, at 6:30 PM. Municipal fines may also be paid to the dispatcher at the Police Department or online by clicking here.  The Police Department has dispatchers on duty 24 hours a day.
URL:https://glenrock.org/event/municipal-court/2027-12-15/
LOCATION:Town Hall – Council Chambers\, 219 S 3RD ST\, Glenrock\, WY\, 82637\, United States
ATTACH;FMTTYPE=image/jpeg:https://glenrock.org/wp-content/uploads/2024/03/court-featured-image.jpg
ORGANIZER;CN="Town of Glenrock":MAILTO:events@glenrock.org
END:VEVENT
BEGIN:VEVENT
DTSTART;TZID=America/Denver:20280104T170000
DTEND;TZID=America/Denver:20280104T180000
DTSTAMP:20260423T172117
CREATED:20240319T150353Z
LAST-MODIFIED:20240319T150353Z
UID:10000194-1830618000-1830621600@glenrock.org
SUMMARY:Planning and Zoning Commission Meeting
DESCRIPTION:Meeting of the Planning and Zoning Commission held in the Town Council Chambers at the Town Hall.
URL:https://glenrock.org/event/planning-and-zoning-commission-meeting/2028-01-04/
LOCATION:Town Hall – Council Chambers\, 219 S 3RD ST\, Glenrock\, WY\, 82637\, United States
CATEGORIES:Town Hall
ATTACH;FMTTYPE=image/png:https://glenrock.org/wp-content/uploads/2023/08/TOG-Logo-Official-OneColor-White-16-9-e1693520063394.png
ORGANIZER;CN="Town of Glenrock":MAILTO:events@glenrock.org
END:VEVENT
BEGIN:VEVENT
DTSTART;TZID=America/Denver:20280119T183000
DTEND;TZID=America/Denver:20280119T203000
DTSTAMP:20260423T172117
CREATED:20240314T134900Z
LAST-MODIFIED:20240314T135700Z
UID:10000134-1831919400-1831926600@glenrock.org
SUMMARY:Municipal Court
DESCRIPTION:Municipal Court is held on the 3rd Wednesday of each month in the Town Council Chambers\, Glenrock Town Hall\, at 6:30 PM. Municipal fines may also be paid to the dispatcher at the Police Department or online by clicking here.  The Police Department has dispatchers on duty 24 hours a day.
URL:https://glenrock.org/event/municipal-court/2028-01-19/
LOCATION:Town Hall – Council Chambers\, 219 S 3RD ST\, Glenrock\, WY\, 82637\, United States
ATTACH;FMTTYPE=image/jpeg:https://glenrock.org/wp-content/uploads/2024/03/court-featured-image.jpg
ORGANIZER;CN="Town of Glenrock":MAILTO:events@glenrock.org
END:VEVENT
BEGIN:VEVENT
DTSTART;TZID=America/Denver:20280201T170000
DTEND;TZID=America/Denver:20280201T180000
DTSTAMP:20260423T172117
CREATED:20240319T150353Z
LAST-MODIFIED:20240319T150353Z
UID:10000195-1833037200-1833040800@glenrock.org
SUMMARY:Planning and Zoning Commission Meeting
DESCRIPTION:Meeting of the Planning and Zoning Commission held in the Town Council Chambers at the Town Hall.
URL:https://glenrock.org/event/planning-and-zoning-commission-meeting/2028-02-01/
LOCATION:Town Hall – Council Chambers\, 219 S 3RD ST\, Glenrock\, WY\, 82637\, United States
CATEGORIES:Town Hall
ATTACH;FMTTYPE=image/png:https://glenrock.org/wp-content/uploads/2023/08/TOG-Logo-Official-OneColor-White-16-9-e1693520063394.png
ORGANIZER;CN="Town of Glenrock":MAILTO:events@glenrock.org
END:VEVENT
BEGIN:VEVENT
DTSTART;TZID=America/Denver:20280216T183000
DTEND;TZID=America/Denver:20280216T203000
DTSTAMP:20260423T172117
CREATED:20240314T134900Z
LAST-MODIFIED:20240314T135700Z
UID:10000135-1834338600-1834345800@glenrock.org
SUMMARY:Municipal Court
DESCRIPTION:Municipal Court is held on the 3rd Wednesday of each month in the Town Council Chambers\, Glenrock Town Hall\, at 6:30 PM. Municipal fines may also be paid to the dispatcher at the Police Department or online by clicking here.  The Police Department has dispatchers on duty 24 hours a day.
URL:https://glenrock.org/event/municipal-court/2028-02-16/
LOCATION:Town Hall – Council Chambers\, 219 S 3RD ST\, Glenrock\, WY\, 82637\, United States
ATTACH;FMTTYPE=image/jpeg:https://glenrock.org/wp-content/uploads/2024/03/court-featured-image.jpg
ORGANIZER;CN="Town of Glenrock":MAILTO:events@glenrock.org
END:VEVENT
BEGIN:VEVENT
DTSTART;TZID=America/Denver:20280307T170000
DTEND;TZID=America/Denver:20280307T180000
DTSTAMP:20260423T172117
CREATED:20240319T150353Z
LAST-MODIFIED:20240319T150353Z
UID:10000196-1836061200-1836064800@glenrock.org
SUMMARY:Planning and Zoning Commission Meeting
DESCRIPTION:Meeting of the Planning and Zoning Commission held in the Town Council Chambers at the Town Hall.
URL:https://glenrock.org/event/planning-and-zoning-commission-meeting/2028-03-07/
LOCATION:Town Hall – Council Chambers\, 219 S 3RD ST\, Glenrock\, WY\, 82637\, United States
CATEGORIES:Town Hall
ATTACH;FMTTYPE=image/png:https://glenrock.org/wp-content/uploads/2023/08/TOG-Logo-Official-OneColor-White-16-9-e1693520063394.png
ORGANIZER;CN="Town of Glenrock":MAILTO:events@glenrock.org
END:VEVENT
BEGIN:VEVENT
DTSTART;TZID=America/Denver:20280315T183000
DTEND;TZID=America/Denver:20280315T203000
DTSTAMP:20260423T172117
CREATED:20240314T134900Z
LAST-MODIFIED:20240314T135700Z
UID:10000136-1836757800-1836765000@glenrock.org
SUMMARY:Municipal Court
DESCRIPTION:Municipal Court is held on the 3rd Wednesday of each month in the Town Council Chambers\, Glenrock Town Hall\, at 6:30 PM. Municipal fines may also be paid to the dispatcher at the Police Department or online by clicking here.  The Police Department has dispatchers on duty 24 hours a day.
URL:https://glenrock.org/event/municipal-court/2028-03-15/
LOCATION:Town Hall – Council Chambers\, 219 S 3RD ST\, Glenrock\, WY\, 82637\, United States
ATTACH;FMTTYPE=image/jpeg:https://glenrock.org/wp-content/uploads/2024/03/court-featured-image.jpg
ORGANIZER;CN="Town of Glenrock":MAILTO:events@glenrock.org
END:VEVENT
BEGIN:VEVENT
DTSTART;TZID=America/Denver:20280404T170000
DTEND;TZID=America/Denver:20280404T180000
DTSTAMP:20260423T172117
CREATED:20240319T150353Z
LAST-MODIFIED:20240319T150353Z
UID:10000197-1838480400-1838484000@glenrock.org
SUMMARY:Planning and Zoning Commission Meeting
DESCRIPTION:Meeting of the Planning and Zoning Commission held in the Town Council Chambers at the Town Hall.
URL:https://glenrock.org/event/planning-and-zoning-commission-meeting/2028-04-04/
LOCATION:Town Hall – Council Chambers\, 219 S 3RD ST\, Glenrock\, WY\, 82637\, United States
CATEGORIES:Town Hall
ATTACH;FMTTYPE=image/png:https://glenrock.org/wp-content/uploads/2023/08/TOG-Logo-Official-OneColor-White-16-9-e1693520063394.png
ORGANIZER;CN="Town of Glenrock":MAILTO:events@glenrock.org
END:VEVENT
BEGIN:VEVENT
DTSTART;TZID=America/Denver:20280419T183000
DTEND;TZID=America/Denver:20280419T203000
DTSTAMP:20260423T172117
CREATED:20240314T134900Z
LAST-MODIFIED:20240314T135700Z
UID:10000137-1839781800-1839789000@glenrock.org
SUMMARY:Municipal Court
DESCRIPTION:Municipal Court is held on the 3rd Wednesday of each month in the Town Council Chambers\, Glenrock Town Hall\, at 6:30 PM. Municipal fines may also be paid to the dispatcher at the Police Department or online by clicking here.  The Police Department has dispatchers on duty 24 hours a day.
URL:https://glenrock.org/event/municipal-court/2028-04-19/
LOCATION:Town Hall – Council Chambers\, 219 S 3RD ST\, Glenrock\, WY\, 82637\, United States
ATTACH;FMTTYPE=image/jpeg:https://glenrock.org/wp-content/uploads/2024/03/court-featured-image.jpg
ORGANIZER;CN="Town of Glenrock":MAILTO:events@glenrock.org
END:VEVENT
BEGIN:VEVENT
DTSTART;TZID=America/Denver:20280502T170000
DTEND;TZID=America/Denver:20280502T180000
DTSTAMP:20260423T172117
CREATED:20240319T150353Z
LAST-MODIFIED:20240319T150353Z
UID:10000198-1840899600-1840903200@glenrock.org
SUMMARY:Planning and Zoning Commission Meeting
DESCRIPTION:Meeting of the Planning and Zoning Commission held in the Town Council Chambers at the Town Hall.
URL:https://glenrock.org/event/planning-and-zoning-commission-meeting/2028-05-02/
LOCATION:Town Hall – Council Chambers\, 219 S 3RD ST\, Glenrock\, WY\, 82637\, United States
CATEGORIES:Town Hall
ATTACH;FMTTYPE=image/png:https://glenrock.org/wp-content/uploads/2023/08/TOG-Logo-Official-OneColor-White-16-9-e1693520063394.png
ORGANIZER;CN="Town of Glenrock":MAILTO:events@glenrock.org
END:VEVENT
END:VCALENDAR