BEGIN:VCALENDAR
VERSION:2.0
PRODID:-//Town of Glenrock - ECPv6.15.20//NONSGML v1.0//EN
CALSCALE:GREGORIAN
METHOD:PUBLISH
X-WR-CALNAME:Town of Glenrock
X-ORIGINAL-URL:https://glenrock.org
X-WR-CALDESC:Events for Town of Glenrock
REFRESH-INTERVAL;VALUE=DURATION:PT1H
X-Robots-Tag:noindex
X-PUBLISHED-TTL:PT1H
BEGIN:VTIMEZONE
TZID:America/Denver
BEGIN:DAYLIGHT
TZOFFSETFROM:-0700
TZOFFSETTO:-0600
TZNAME:MDT
DTSTART:20220313T090000
END:DAYLIGHT
BEGIN:STANDARD
TZOFFSETFROM:-0600
TZOFFSETTO:-0700
TZNAME:MST
DTSTART:20221106T080000
END:STANDARD
BEGIN:DAYLIGHT
TZOFFSETFROM:-0700
TZOFFSETTO:-0600
TZNAME:MDT
DTSTART:20230312T090000
END:DAYLIGHT
BEGIN:STANDARD
TZOFFSETFROM:-0600
TZOFFSETTO:-0700
TZNAME:MST
DTSTART:20231105T080000
END:STANDARD
BEGIN:DAYLIGHT
TZOFFSETFROM:-0700
TZOFFSETTO:-0600
TZNAME:MDT
DTSTART:20240310T090000
END:DAYLIGHT
BEGIN:STANDARD
TZOFFSETFROM:-0600
TZOFFSETTO:-0700
TZNAME:MST
DTSTART:20241103T080000
END:STANDARD
BEGIN:DAYLIGHT
TZOFFSETFROM:-0700
TZOFFSETTO:-0600
TZNAME:MDT
DTSTART:20250309T090000
END:DAYLIGHT
BEGIN:STANDARD
TZOFFSETFROM:-0600
TZOFFSETTO:-0700
TZNAME:MST
DTSTART:20251102T080000
END:STANDARD
END:VTIMEZONE
BEGIN:VEVENT
DTSTART;TZID=America/Denver:20240507T170000
DTEND;TZID=America/Denver:20240507T180000
DTSTAMP:20260424T011733
CREATED:20240319T150353Z
LAST-MODIFIED:20240319T150353Z
UID:10000150-1715101200-1715104800@glenrock.org
SUMMARY:Planning and Zoning Commission Meeting
DESCRIPTION:Meeting of the Planning and Zoning Commission held in the Town Council Chambers at the Town Hall.
URL:https://glenrock.org/event/planning-and-zoning-commission-meeting/2024-05-07/
LOCATION:Town Hall – Council Chambers\, 219 S 3RD ST\, Glenrock\, WY\, 82637\, United States
CATEGORIES:Town Hall
ATTACH;FMTTYPE=image/png:https://glenrock.org/wp-content/uploads/2023/08/TOG-Logo-Official-OneColor-White-16-9-e1693520063394.png
ORGANIZER;CN="Town of Glenrock":MAILTO:events@glenrock.org
END:VEVENT
BEGIN:VEVENT
DTSTART;TZID=America/Denver:20240422T173000
DTEND;TZID=America/Denver:20240422T173000
DTSTAMP:20260424T011733
CREATED:20230831T220003Z
LAST-MODIFIED:20231109T180328Z
UID:10000022-1713807000-1713807000@glenrock.org
SUMMARY:Town Council Meeting
DESCRIPTION:Town Council Meetings are also livestreamed on YouTube. Click here for the Town’s YouTube channel.
URL:https://glenrock.org/event/town-council-meeting-2/2024-04-22/
LOCATION:Town Hall – Council Chambers\, 219 S 3RD ST\, Glenrock\, WY\, 82637\, United States
CATEGORIES:Town Council
ATTACH;FMTTYPE=image/png:https://glenrock.org/wp-content/uploads/2023/08/TOG-Logo-Official-OneColor-White-16-9-e1693520063394.png
ORGANIZER;CN="Town of Glenrock":MAILTO:events@glenrock.org
END:VEVENT
BEGIN:VEVENT
DTSTART;TZID=America/Denver:20240417T183000
DTEND;TZID=America/Denver:20240417T203000
DTSTAMP:20260424T011733
CREATED:20240314T134900Z
LAST-MODIFIED:20240314T135700Z
UID:10000089-1713378600-1713385800@glenrock.org
SUMMARY:Municipal Court
DESCRIPTION:Municipal Court is held on the 3rd Wednesday of each month in the Town Council Chambers\, Glenrock Town Hall\, at 6:30 PM. Municipal fines may also be paid to the dispatcher at the Police Department or online by clicking here.  The Police Department has dispatchers on duty 24 hours a day.
URL:https://glenrock.org/event/municipal-court/2024-04-17/
LOCATION:Town Hall – Council Chambers\, 219 S 3RD ST\, Glenrock\, WY\, 82637\, United States
ATTACH;FMTTYPE=image/jpeg:https://glenrock.org/wp-content/uploads/2024/03/court-featured-image.jpg
ORGANIZER;CN="Town of Glenrock":MAILTO:events@glenrock.org
END:VEVENT
BEGIN:VEVENT
DTSTART;TZID=America/Denver:20240410T180000
DTEND;TZID=America/Denver:20240410T190000
DTSTAMP:20260424T011733
CREATED:20240319T150050Z
LAST-MODIFIED:20240319T150050Z
UID:10000148-1712772000-1712775600@glenrock.org
SUMMARY:Deer Creek Days Meeting
DESCRIPTION:The next meeting for Deer Creek Days will be April 10th at 6PM at the Town Hall.
URL:https://glenrock.org/event/deer-creek-days-meeting/
LOCATION:Town Hall\, 219 S 3rd St\, Glenrock\, WY\, 82637\, United States
CATEGORIES:Town Hall
ATTACH;FMTTYPE=image/png:https://glenrock.org/wp-content/uploads/2023/08/TOG-Logo-Official-OneColor-White-16-9-e1693520063394.png
ORGANIZER;CN="Elevate Glenrock":MAILTO:director@elevateglenrock.com
END:VEVENT
BEGIN:VEVENT
DTSTART;TZID=America/Denver:20240408T173000
DTEND;TZID=America/Denver:20240408T173000
DTSTAMP:20260424T011733
CREATED:20230831T215501Z
LAST-MODIFIED:20240314T140010Z
UID:10000009-1712597400-1712597400@glenrock.org
SUMMARY:Town Council Meeting
DESCRIPTION:Town Council Meetings are also livestreamed on YouTube. Click here for the Town’s YouTube channel.
URL:https://glenrock.org/event/town-council-meeting/2024-04-08/
LOCATION:Town Hall – Council Chambers\, 219 S 3RD ST\, Glenrock\, WY\, 82637\, United States
CATEGORIES:Town Council
ATTACH;FMTTYPE=image/png:https://glenrock.org/wp-content/uploads/2023/08/TOG-Logo-Official-OneColor-White-16-9-e1693520063394.png
ORGANIZER;CN="Town of Glenrock":MAILTO:events@glenrock.org
END:VEVENT
BEGIN:VEVENT
DTSTART;TZID=America/Denver:20240402T170000
DTEND;TZID=America/Denver:20240402T180000
DTSTAMP:20260424T011733
CREATED:20240319T150353Z
LAST-MODIFIED:20240319T150353Z
UID:10000149-1712077200-1712080800@glenrock.org
SUMMARY:Planning and Zoning Commission Meeting
DESCRIPTION:Meeting of the Planning and Zoning Commission held in the Town Council Chambers at the Town Hall.
URL:https://glenrock.org/event/planning-and-zoning-commission-meeting/2024-04-02/
LOCATION:Town Hall – Council Chambers\, 219 S 3RD ST\, Glenrock\, WY\, 82637\, United States
CATEGORIES:Town Hall
ATTACH;FMTTYPE=image/png:https://glenrock.org/wp-content/uploads/2023/08/TOG-Logo-Official-OneColor-White-16-9-e1693520063394.png
ORGANIZER;CN="Town of Glenrock":MAILTO:events@glenrock.org
END:VEVENT
BEGIN:VEVENT
DTSTART;TZID=America/Denver:20240325T173000
DTEND;TZID=America/Denver:20240325T173000
DTSTAMP:20260424T011733
CREATED:20230831T220003Z
LAST-MODIFIED:20231109T180328Z
UID:10000021-1711387800-1711387800@glenrock.org
SUMMARY:Town Council Meeting
DESCRIPTION:Town Council Meetings are also livestreamed on YouTube. Click here for the Town’s YouTube channel.
URL:https://glenrock.org/event/town-council-meeting-2/2024-03-25/
LOCATION:Town Hall – Council Chambers\, 219 S 3RD ST\, Glenrock\, WY\, 82637\, United States
CATEGORIES:Town Council
ATTACH;FMTTYPE=image/png:https://glenrock.org/wp-content/uploads/2023/08/TOG-Logo-Official-OneColor-White-16-9-e1693520063394.png
ORGANIZER;CN="Town of Glenrock":MAILTO:events@glenrock.org
END:VEVENT
BEGIN:VEVENT
DTSTART;TZID=America/Denver:20240320T183000
DTEND;TZID=America/Denver:20240320T203000
DTSTAMP:20260424T011733
CREATED:20240314T134900Z
LAST-MODIFIED:20240314T135700Z
UID:10000088-1710959400-1710966600@glenrock.org
SUMMARY:Municipal Court
DESCRIPTION:Municipal Court is held on the 3rd Wednesday of each month in the Town Council Chambers\, Glenrock Town Hall\, at 6:30 PM. Municipal fines may also be paid to the dispatcher at the Police Department or online by clicking here.  The Police Department has dispatchers on duty 24 hours a day.
URL:https://glenrock.org/event/municipal-court/2024-03-20/
LOCATION:Town Hall – Council Chambers\, 219 S 3RD ST\, Glenrock\, WY\, 82637\, United States
ATTACH;FMTTYPE=image/jpeg:https://glenrock.org/wp-content/uploads/2024/03/court-featured-image.jpg
ORGANIZER;CN="Town of Glenrock":MAILTO:events@glenrock.org
END:VEVENT
BEGIN:VEVENT
DTSTART;TZID=America/Denver:20240311T173000
DTEND;TZID=America/Denver:20240311T173000
DTSTAMP:20260424T011733
CREATED:20230831T215501Z
LAST-MODIFIED:20240314T140010Z
UID:10000008-1710178200-1710178200@glenrock.org
SUMMARY:Town Council Meeting
DESCRIPTION:Town Council Meetings are also livestreamed on YouTube. Click here for the Town’s YouTube channel.
URL:https://glenrock.org/event/town-council-meeting/2024-03-11/
LOCATION:Town Hall – Council Chambers\, 219 S 3RD ST\, Glenrock\, WY\, 82637\, United States
CATEGORIES:Town Council
ATTACH;FMTTYPE=image/png:https://glenrock.org/wp-content/uploads/2023/08/TOG-Logo-Official-OneColor-White-16-9-e1693520063394.png
ORGANIZER;CN="Town of Glenrock":MAILTO:events@glenrock.org
END:VEVENT
BEGIN:VEVENT
DTSTART;TZID=America/Denver:20240226T173000
DTEND;TZID=America/Denver:20240226T173000
DTSTAMP:20260424T011733
CREATED:20230831T220003Z
LAST-MODIFIED:20231109T180328Z
UID:10000020-1708968600-1708968600@glenrock.org
SUMMARY:Town Council Meeting
DESCRIPTION:Town Council Meetings are also livestreamed on YouTube. Click here for the Town’s YouTube channel.
URL:https://glenrock.org/event/town-council-meeting-2/2024-02-26/
LOCATION:Town Hall – Council Chambers\, 219 S 3RD ST\, Glenrock\, WY\, 82637\, United States
CATEGORIES:Town Council
ATTACH;FMTTYPE=image/png:https://glenrock.org/wp-content/uploads/2023/08/TOG-Logo-Official-OneColor-White-16-9-e1693520063394.png
ORGANIZER;CN="Town of Glenrock":MAILTO:events@glenrock.org
END:VEVENT
BEGIN:VEVENT
DTSTART;TZID=America/Denver:20240212T173000
DTEND;TZID=America/Denver:20240212T173000
DTSTAMP:20260424T011733
CREATED:20230831T215501Z
LAST-MODIFIED:20240314T140010Z
UID:10000007-1707759000-1707759000@glenrock.org
SUMMARY:Town Council Meeting
DESCRIPTION:Town Council Meetings are also livestreamed on YouTube. Click here for the Town’s YouTube channel.
URL:https://glenrock.org/event/town-council-meeting/2024-02-12/
LOCATION:Town Hall – Council Chambers\, 219 S 3RD ST\, Glenrock\, WY\, 82637\, United States
CATEGORIES:Town Council
ATTACH;FMTTYPE=image/png:https://glenrock.org/wp-content/uploads/2023/08/TOG-Logo-Official-OneColor-White-16-9-e1693520063394.png
ORGANIZER;CN="Town of Glenrock":MAILTO:events@glenrock.org
END:VEVENT
BEGIN:VEVENT
DTSTART;TZID=America/Denver:20240122T173000
DTEND;TZID=America/Denver:20240122T173000
DTSTAMP:20260424T011733
CREATED:20230831T220003Z
LAST-MODIFIED:20231109T180328Z
UID:10000019-1705944600-1705944600@glenrock.org
SUMMARY:Town Council Meeting
DESCRIPTION:Town Council Meetings are also livestreamed on YouTube. Click here for the Town’s YouTube channel.
URL:https://glenrock.org/event/town-council-meeting-2/2024-01-22/
LOCATION:Town Hall – Council Chambers\, 219 S 3RD ST\, Glenrock\, WY\, 82637\, United States
CATEGORIES:Town Council
ATTACH;FMTTYPE=image/png:https://glenrock.org/wp-content/uploads/2023/08/TOG-Logo-Official-OneColor-White-16-9-e1693520063394.png
ORGANIZER;CN="Town of Glenrock":MAILTO:events@glenrock.org
END:VEVENT
BEGIN:VEVENT
DTSTART;TZID=America/Denver:20240108T173000
DTEND;TZID=America/Denver:20240108T173000
DTSTAMP:20260424T011733
CREATED:20230831T215501Z
LAST-MODIFIED:20240314T140010Z
UID:10000006-1704735000-1704735000@glenrock.org
SUMMARY:Town Council Meeting
DESCRIPTION:Town Council Meetings are also livestreamed on YouTube. Click here for the Town’s YouTube channel.
URL:https://glenrock.org/event/town-council-meeting/2024-01-08/
LOCATION:Town Hall – Council Chambers\, 219 S 3RD ST\, Glenrock\, WY\, 82637\, United States
CATEGORIES:Town Council
ATTACH;FMTTYPE=image/png:https://glenrock.org/wp-content/uploads/2023/08/TOG-Logo-Official-OneColor-White-16-9-e1693520063394.png
ORGANIZER;CN="Town of Glenrock":MAILTO:events@glenrock.org
END:VEVENT
BEGIN:VEVENT
DTSTART;TZID=America/Denver:20231225T173000
DTEND;TZID=America/Denver:20231225T173000
DTSTAMP:20260424T011733
CREATED:20230831T220003Z
LAST-MODIFIED:20231109T180328Z
UID:10000018-1703525400-1703525400@glenrock.org
SUMMARY:Town Council Meeting
DESCRIPTION:Town Council Meetings are also livestreamed on YouTube. Click here for the Town’s YouTube channel.
URL:https://glenrock.org/event/town-council-meeting-2/2023-12-25/
LOCATION:Town Hall – Council Chambers\, 219 S 3RD ST\, Glenrock\, WY\, 82637\, United States
CATEGORIES:Town Council
ATTACH;FMTTYPE=image/png:https://glenrock.org/wp-content/uploads/2023/08/TOG-Logo-Official-OneColor-White-16-9-e1693520063394.png
ORGANIZER;CN="Town of Glenrock":MAILTO:events@glenrock.org
END:VEVENT
BEGIN:VEVENT
DTSTART;TZID=America/Denver:20231211T173000
DTEND;TZID=America/Denver:20231211T173000
DTSTAMP:20260424T011733
CREATED:20230831T215501Z
LAST-MODIFIED:20240314T140010Z
UID:10000005-1702315800-1702315800@glenrock.org
SUMMARY:Town Council Meeting
DESCRIPTION:Town Council Meetings are also livestreamed on YouTube. Click here for the Town’s YouTube channel.
URL:https://glenrock.org/event/town-council-meeting/2023-12-11/
LOCATION:Town Hall – Council Chambers\, 219 S 3RD ST\, Glenrock\, WY\, 82637\, United States
CATEGORIES:Town Council
ATTACH;FMTTYPE=image/png:https://glenrock.org/wp-content/uploads/2023/08/TOG-Logo-Official-OneColor-White-16-9-e1693520063394.png
ORGANIZER;CN="Town of Glenrock":MAILTO:events@glenrock.org
END:VEVENT
BEGIN:VEVENT
DTSTART;TZID=America/Denver:20231127T173000
DTEND;TZID=America/Denver:20231127T173000
DTSTAMP:20260424T011733
CREATED:20230831T220003Z
LAST-MODIFIED:20231109T180328Z
UID:10000017-1701106200-1701106200@glenrock.org
SUMMARY:Town Council Meeting
DESCRIPTION:Town Council Meetings are also livestreamed on YouTube. Click here for the Town’s YouTube channel.
URL:https://glenrock.org/event/town-council-meeting-2/2023-11-27/
LOCATION:Town Hall – Council Chambers\, 219 S 3RD ST\, Glenrock\, WY\, 82637\, United States
CATEGORIES:Town Council
ATTACH;FMTTYPE=image/png:https://glenrock.org/wp-content/uploads/2023/08/TOG-Logo-Official-OneColor-White-16-9-e1693520063394.png
ORGANIZER;CN="Town of Glenrock":MAILTO:events@glenrock.org
END:VEVENT
BEGIN:VEVENT
DTSTART;TZID=America/Denver:20231113T173000
DTEND;TZID=America/Denver:20231113T173000
DTSTAMP:20260424T011733
CREATED:20230831T215501Z
LAST-MODIFIED:20240314T140010Z
UID:10000004-1699896600-1699896600@glenrock.org
SUMMARY:Town Council Meeting
DESCRIPTION:Town Council Meetings are also livestreamed on YouTube. Click here for the Town’s YouTube channel.
URL:https://glenrock.org/event/town-council-meeting/2023-11-13/
LOCATION:Town Hall – Council Chambers\, 219 S 3RD ST\, Glenrock\, WY\, 82637\, United States
CATEGORIES:Town Council
ATTACH;FMTTYPE=image/png:https://glenrock.org/wp-content/uploads/2023/08/TOG-Logo-Official-OneColor-White-16-9-e1693520063394.png
ORGANIZER;CN="Town of Glenrock":MAILTO:events@glenrock.org
END:VEVENT
BEGIN:VEVENT
DTSTART;TZID=America/Denver:20231023T173000
DTEND;TZID=America/Denver:20231023T173000
DTSTAMP:20260424T011733
CREATED:20230831T220003Z
LAST-MODIFIED:20231109T180328Z
UID:10000016-1698082200-1698082200@glenrock.org
SUMMARY:Town Council Meeting
DESCRIPTION:Town Council Meetings are also livestreamed on YouTube. Click here for the Town’s YouTube channel.
URL:https://glenrock.org/event/town-council-meeting-2/2023-10-23/
LOCATION:Town Hall – Council Chambers\, 219 S 3RD ST\, Glenrock\, WY\, 82637\, United States
CATEGORIES:Town Council
ATTACH;FMTTYPE=image/png:https://glenrock.org/wp-content/uploads/2023/08/TOG-Logo-Official-OneColor-White-16-9-e1693520063394.png
ORGANIZER;CN="Town of Glenrock":MAILTO:events@glenrock.org
END:VEVENT
BEGIN:VEVENT
DTSTART;TZID=America/Denver:20231014T090000
DTEND;TZID=America/Denver:20231014T140000
DTSTAMP:20260424T011733
CREATED:20230901T013409Z
LAST-MODIFIED:20231109T181233Z
UID:10000001-1697274000-1697292000@glenrock.org
SUMMARY:Wyoming Cowboys vs Air Force - Tailgate and Watch Party
DESCRIPTION:Come out and watch the Cowboys take on Air Force during our watch party and tailgate at Town Square! The Lions Club will be selling burgers and hot dogs and there will be beer and other concessions.
URL:https://glenrock.org/event/wyoming-cowboys-vs-air-force-tailgate-and-watch-party/
LOCATION:Glenrock Town Square\, 500 W Aspen ST\, Glenrock\, WY\, 82637\, United States
CATEGORIES:Town Square
ATTACH;FMTTYPE=image/jpeg:https://glenrock.org/wp-content/uploads/2023/08/cowboys-16-9-scaled.jpg
ORGANIZER;CN="Town of Glenrock":MAILTO:events@glenrock.org
END:VEVENT
BEGIN:VEVENT
DTSTART;TZID=America/Denver:20231009T173000
DTEND;TZID=America/Denver:20231009T173000
DTSTAMP:20260424T011733
CREATED:20230831T215501Z
LAST-MODIFIED:20240314T140010Z
UID:10000003-1696872600-1696872600@glenrock.org
SUMMARY:Town Council Meeting
DESCRIPTION:Town Council Meetings are also livestreamed on YouTube. Click here for the Town’s YouTube channel.
URL:https://glenrock.org/event/town-council-meeting/2023-10-09/
LOCATION:Town Hall – Council Chambers\, 219 S 3RD ST\, Glenrock\, WY\, 82637\, United States
CATEGORIES:Town Council
ATTACH;FMTTYPE=image/png:https://glenrock.org/wp-content/uploads/2023/08/TOG-Logo-Official-OneColor-White-16-9-e1693520063394.png
ORGANIZER;CN="Town of Glenrock":MAILTO:events@glenrock.org
END:VEVENT
BEGIN:VEVENT
DTSTART;TZID=America/Denver:20230925T173000
DTEND;TZID=America/Denver:20230925T173000
DTSTAMP:20260424T011733
CREATED:20230831T220003Z
LAST-MODIFIED:20231109T180328Z
UID:10000015-1695663000-1695663000@glenrock.org
SUMMARY:Town Council Meeting
DESCRIPTION:Town Council Meetings are also livestreamed on YouTube. Click here for the Town’s YouTube channel.
URL:https://glenrock.org/event/town-council-meeting-2/2023-09-25/
LOCATION:Town Hall – Council Chambers\, 219 S 3RD ST\, Glenrock\, WY\, 82637\, United States
CATEGORIES:Town Council
ATTACH;FMTTYPE=image/png:https://glenrock.org/wp-content/uploads/2023/08/TOG-Logo-Official-OneColor-White-16-9-e1693520063394.png
ORGANIZER;CN="Town of Glenrock":MAILTO:events@glenrock.org
END:VEVENT
BEGIN:VEVENT
DTSTART;TZID=America/Denver:20230911T173000
DTEND;TZID=America/Denver:20230911T173000
DTSTAMP:20260424T011733
CREATED:20230831T215501Z
LAST-MODIFIED:20240314T140010Z
UID:10000002-1694453400-1694453400@glenrock.org
SUMMARY:Town Council Meeting
DESCRIPTION:Town Council Meetings are also livestreamed on YouTube. Click here for the Town’s YouTube channel.
URL:https://glenrock.org/event/town-council-meeting/2023-09-11/
LOCATION:Town Hall – Council Chambers\, 219 S 3RD ST\, Glenrock\, WY\, 82637\, United States
CATEGORIES:Town Council
ATTACH;FMTTYPE=image/png:https://glenrock.org/wp-content/uploads/2023/08/TOG-Logo-Official-OneColor-White-16-9-e1693520063394.png
ORGANIZER;CN="Town of Glenrock":MAILTO:events@glenrock.org
END:VEVENT
END:VCALENDAR