BEGIN:VCALENDAR
VERSION:2.0
PRODID:-//Town of Glenrock - ECPv6.15.20//NONSGML v1.0//EN
CALSCALE:GREGORIAN
METHOD:PUBLISH
X-WR-CALNAME:Town of Glenrock
X-ORIGINAL-URL:https://glenrock.org
X-WR-CALDESC:Events for Town of Glenrock
REFRESH-INTERVAL;VALUE=DURATION:PT1H
X-Robots-Tag:noindex
X-PUBLISHED-TTL:PT1H
BEGIN:VTIMEZONE
TZID:America/Denver
BEGIN:DAYLIGHT
TZOFFSETFROM:-0700
TZOFFSETTO:-0600
TZNAME:MDT
DTSTART:20240310T090000
END:DAYLIGHT
BEGIN:STANDARD
TZOFFSETFROM:-0600
TZOFFSETTO:-0700
TZNAME:MST
DTSTART:20241103T080000
END:STANDARD
BEGIN:DAYLIGHT
TZOFFSETFROM:-0700
TZOFFSETTO:-0600
TZNAME:MDT
DTSTART:20250309T090000
END:DAYLIGHT
BEGIN:STANDARD
TZOFFSETFROM:-0600
TZOFFSETTO:-0700
TZNAME:MST
DTSTART:20251102T080000
END:STANDARD
BEGIN:DAYLIGHT
TZOFFSETFROM:-0700
TZOFFSETTO:-0600
TZNAME:MDT
DTSTART:20260308T090000
END:DAYLIGHT
BEGIN:STANDARD
TZOFFSETFROM:-0600
TZOFFSETTO:-0700
TZNAME:MST
DTSTART:20261101T080000
END:STANDARD
END:VTIMEZONE
BEGIN:VEVENT
DTSTART;TZID=America/Denver:20251007T170000
DTEND;TZID=America/Denver:20251007T180000
DTSTAMP:20260423T165800
CREATED:20240319T150353Z
LAST-MODIFIED:20240319T150353Z
UID:10000167-1759856400-1759860000@glenrock.org
SUMMARY:Planning and Zoning Commission Meeting
DESCRIPTION:Meeting of the Planning and Zoning Commission held in the Town Council Chambers at the Town Hall.
URL:https://glenrock.org/event/planning-and-zoning-commission-meeting/2025-10-07/
LOCATION:Town Hall – Council Chambers\, 219 S 3RD ST\, Glenrock\, WY\, 82637\, United States
CATEGORIES:Town Hall
ATTACH;FMTTYPE=image/png:https://glenrock.org/wp-content/uploads/2023/08/TOG-Logo-Official-OneColor-White-16-9-e1693520063394.png
ORGANIZER;CN="Town of Glenrock":MAILTO:events@glenrock.org
END:VEVENT
BEGIN:VEVENT
DTSTART;TZID=America/Denver:20251013T173000
DTEND;TZID=America/Denver:20251013T183000
DTSTAMP:20260423T165800
CREATED:20250107T192553Z
LAST-MODIFIED:20250107T192908Z
UID:10000217-1760376600-1760380200@glenrock.org
SUMMARY:Town Council Meeting
DESCRIPTION:Town Council Meetings are also livestreamed on YouTube. Click here for the Town’s YouTube channel.
URL:https://glenrock.org/event/town-council-meeting-2-2/2025-10-13/
LOCATION:Town Hall – Council Chambers\, 219 S 3RD ST\, Glenrock\, WY\, 82637\, United States
CATEGORIES:Town Council
ATTACH;FMTTYPE=image/png:https://glenrock.org/wp-content/uploads/2023/08/TOG-Logo-Official-OneColor-White-16-9-e1693520063394.png
ORGANIZER;CN="Town of Glenrock":MAILTO:events@glenrock.org
END:VEVENT
BEGIN:VEVENT
DTSTART;TZID=America/Denver:20251015T183000
DTEND;TZID=America/Denver:20251015T203000
DTSTAMP:20260423T165800
CREATED:20240314T134900Z
LAST-MODIFIED:20240314T135700Z
UID:10000107-1760553000-1760560200@glenrock.org
SUMMARY:Municipal Court
DESCRIPTION:Municipal Court is held on the 3rd Wednesday of each month in the Town Council Chambers\, Glenrock Town Hall\, at 6:30 PM. Municipal fines may also be paid to the dispatcher at the Police Department or online by clicking here.  The Police Department has dispatchers on duty 24 hours a day.
URL:https://glenrock.org/event/municipal-court/2025-10-15/
LOCATION:Town Hall – Council Chambers\, 219 S 3RD ST\, Glenrock\, WY\, 82637\, United States
ATTACH;FMTTYPE=image/jpeg:https://glenrock.org/wp-content/uploads/2024/03/court-featured-image.jpg
ORGANIZER;CN="Town of Glenrock":MAILTO:events@glenrock.org
END:VEVENT
BEGIN:VEVENT
DTSTART;TZID=America/Denver:20251027T173000
DTEND;TZID=America/Denver:20251027T183000
DTSTAMP:20260423T165800
CREATED:20250107T192754Z
LAST-MODIFIED:20250107T193000Z
UID:10000230-1761586200-1761589800@glenrock.org
SUMMARY:Town Council Meeting
DESCRIPTION:Town Council Meetings are also livestreamed on YouTube. Click here for the Town’s YouTube channel.
URL:https://glenrock.org/event/town-council-meeting-3/2025-10-27/
LOCATION:Town Hall – Council Chambers\, 219 S 3RD ST\, Glenrock\, WY\, 82637\, United States
CATEGORIES:Town Council
ATTACH;FMTTYPE=image/png:https://glenrock.org/wp-content/uploads/2023/08/TOG-Logo-Official-OneColor-White-16-9-e1693520063394.png
ORGANIZER;CN="Town of Glenrock":MAILTO:events@glenrock.org
END:VEVENT
END:VCALENDAR